BEGIN:VCALENDAR
VERSION:2.0
PRODID:-//http://tainiothiki.gr///NONSGML kigkonsult.se iCalcreator 2.10.15//
METHOD:PUBLISH
BEGIN:VEVENT
UID:20260423T155212EEST-0082JubnRH@http://tainiothiki.gr/
DTSTAMP:20260423T125212Z
DESCRIPTION:Θερινός Κινηματογράφος Λαΐς\nΟ Μίκης Θεοδωράκης στη μεγάλη οθόν
 η\nΚυριακή 29 Ιουνιόυ\n23:15 Συνοικία το Όνειρο (Αλέκος Αλεξανδράκης\, 95'
 )\n\n\n \n\nΕΙΣΙΤΗΡΙΑ\n6 ευρώ (γενική είσοδος) \nΗλεκτρονική προπώληση εδώ
 \n   \n http://tainiothiki.gr/el/component/rseventspro/event/1902-synoikia
 -to-oneiro
DTSTART:20250629T201500Z
DTEND:20250629T205900Z
LOCATION:Θερινό Λαΐς (ΙΕΡΑ ΟΔΟΣ 48\, 104 35\, ΚΕΡΑΜΕΙΚΟΣ\, ΑΘΗΝΑ	)
SUMMARY:Συνοικία το Όνειρο
URL:http://tainiothiki.gr/el/component/rseventspro/event/1902-synoikia-to-o
 neiro
END:VEVENT
END:VCALENDAR
