BEGIN:VCALENDAR
VERSION:2.0
PRODID:-//http://tainiothiki.gr///NONSGML kigkonsult.se iCalcreator 2.10.15//
METHOD:PUBLISH
BEGIN:VEVENT
UID:20260422T003325EEST-4391hw6dM8@http://tainiothiki.gr/
DTSTAMP:20260421T213325Z
DESCRIPTION:Θερινός Κινηματογράφος Λαΐς\nΠάνος Χ. Κούτρας - Ο κόσμος ανάποδ
 α\nΠαρασκευή 19 Σεπτεμβρίου\n20:00 Xenia (2014\, 129')Προλογίζει η παραγωγ
 ός Ελένη Κοσσυφίδου και ο ηθοποιός Νίκος Γκέλια\n\n\n\nΕΙΣΙΤΗΡΙΑ\n6 ευρώ (
 γενική είσοδος)Ηλεκτρονική προπώληση εδώ\n http://tainiothiki.gr/el/compon
 ent/rseventspro/event/1936-xenia
DTSTART:20250919T170000Z
DTEND:20250919T181000Z
LOCATION:Θερινό Λαΐς (ΙΕΡΑ ΟΔΟΣ 48\, 104 35\, ΚΕΡΑΜΕΙΚΟΣ\, ΑΘΗΝΑ	)
SUMMARY:Xenia
URL:http://tainiothiki.gr/el/component/rseventspro/event/1936-xenia
END:VEVENT
END:VCALENDAR
