BEGIN:VCALENDAR
VERSION:2.0
PRODID:-//http://tainiothiki.gr///NONSGML kigkonsult.se iCalcreator 2.10.15//
METHOD:PUBLISH
BEGIN:VEVENT
UID:20260421T205629EEST-69645oiu9U@http://tainiothiki.gr/
DTSTAMP:20260421T175629Z
DESCRIPTION:Θερινός Κινηματογράφος Λαΐς\nΠάνος Χ. Κούτρας - Ο κόσμος ανάποδ
 α\nΣάββατο 20 Σεπτεμβρίου\n22:15 Αληθινή ζωή (2004\, 116')Προλογίζει η μον
 τέζ και σκηνοθέτρια Ελισάβετ Χρονοπούλου\n\n\n\nΕΙΣΙΤΗΡΙΑ\n6 ευρώ (γενική 
 είσοδος)Ηλεκτρονική προπώληση εδώ\n http://tainiothiki.gr/el/component/rse
 ventspro/event/1938-alithini-zoi
DTSTART:20250920T191500Z
DTEND:20250920T205900Z
LOCATION:Θερινό Λαΐς (ΙΕΡΑ ΟΔΟΣ 48\, 104 35\, ΚΕΡΑΜΕΙΚΟΣ\, ΑΘΗΝΑ	)
SUMMARY:Αληθινή ζωή
URL:http://tainiothiki.gr/el/component/rseventspro/event/1938-alithini-zoi
END:VEVENT
END:VCALENDAR
