BEGIN:VCALENDAR
VERSION:2.0
PRODID:-//http://tainiothiki.gr///NONSGML kigkonsult.se iCalcreator 2.10.15//
METHOD:PUBLISH
BEGIN:VEVENT
UID:20260421T225737EEST-49271JNzGD@http://tainiothiki.gr/
DTSTAMP:20260421T195737Z
DESCRIPTION:ΑΙΘΟΥΣΑ Α\nΗ Ειρήνη Παπά στη μεγάλη οθόνη\nΠαρασκευή 17 Οκτωβρί
 ου\n20:00 Η λίμνη των στεναγμών | The lake of sighs (Γρηγόρης Γρηγορίου\, 
 82')\n\n\n \n\nΕΙΣΙΤΗΡΙΑ\n7 ευρώ (γενική είσοδος)Ηλεκτρονική προπώληση εδώ
 \n http://tainiothiki.gr/el/component/rseventspro/event/1982-i-limni-ton-s
 tenagmon-the-lake-of-sighs
DTSTART:20251017T170000Z
DTEND:20251017T182500Z
LOCATION:Αίθουσα Α (ΙΕΡΑ ΟΔΟΣ 48\, 104 35\, ΚΕΡΑΜΕΙΚΟΣ\, ΑΘΗΝΑ)
SUMMARY:Η λίμνη των στεναγμών | The lake of sighs
URL:http://tainiothiki.gr/el/component/rseventspro/event/1982-i-limni-ton-s
 tenagmon-the-lake-of-sighs
END:VEVENT
END:VCALENDAR
