BEGIN:VCALENDAR
VERSION:2.0
PRODID:-//http://tainiothiki.gr///NONSGML kigkonsult.se iCalcreator 2.10.15//
METHOD:PUBLISH
BEGIN:VEVENT
UID:20260421T222844EEST-9433hoTHHj@http://tainiothiki.gr/
DTSTAMP:20260421T192844Z
DESCRIPTION:ΑΙΘΟΥΣΑ Α\nΗ Ειρήνη Παπά στη μεγάλη οθόνη\nΚυριακή 19 Οκτωβρίου
 \n19:15 Ιφιγένεια | Iphigenia (Μιχάλης Κακογιάννης\, 127')\n\n \n\nΕΙΣΙΤΗΡ
 ΙΑ\n7 ευρώ (γενική είσοδος)Ηλεκτρονική προπώληση εδώ\n http://tainiothiki.
 gr/el/component/rseventspro/event/1986-ifigeneia-iphigenia
DTSTART:20251019T161500Z
DTEND:20251019T174500Z
LOCATION:Αίθουσα Α (ΙΕΡΑ ΟΔΟΣ 48\, 104 35\, ΚΕΡΑΜΕΙΚΟΣ\, ΑΘΗΝΑ)
SUMMARY:Ιφιγένεια | Iphigenia
URL:http://tainiothiki.gr/el/component/rseventspro/event/1986-ifigeneia-iph
 igenia
END:VEVENT
END:VCALENDAR
