BEGIN:VCALENDAR
VERSION:2.0
PRODID:-//http://tainiothiki.gr///NONSGML kigkonsult.se iCalcreator 2.10.15//
METHOD:PUBLISH
BEGIN:VEVENT
UID:20260425T152401EEST-3734wR1oWm@http://tainiothiki.gr/
DTSTAMP:20260425T122401Z
DESCRIPTION:Ο μάγος της ΑθήναςΣκηνοθεσία: Αχιλλέας ΜαδράςΔιάρκεια: 49'Έτος:
  1931\nΔείτε την ταινία από 14-17 Απριλίου εδώ.\nΠροβολή στο πλαίσιο του α
 φιερώματος 'Η Ταινιοθήκη στο σπίτι'\n http://tainiothiki.gr/el/component/r
 seventspro/event/88-o-magos-tis-athinas-i-tainiothiki-sto-spiti
DTSTART:20200414T170000Z
DTEND:20200417T170000Z
LOCATION:Στο σπίτι ()
SUMMARY:Ο μάγος της Αθήνας | Η Ταινιοθήκη στο σπίτι
URL:http://tainiothiki.gr/el/component/rseventspro/event/88-o-magos-tis-ath
 inas-i-tainiothiki-sto-spiti
END:VEVENT
END:VCALENDAR
