BEGIN:VCALENDAR
VERSION:2.0
PRODID:-//http://tainiothiki.gr///NONSGML kigkonsult.se iCalcreator 2.10.15//
METHOD:PUBLISH
BEGIN:VEVENT
UID:20260425T135851EEST-9607vXpIlG@http://tainiothiki.gr/
DTSTAMP:20260425T105851Z
DESCRIPTION:Κοινωνική σαπίλαΣκηνοθεσία: Στέλιος ΤατασόπουλοςΔιάρκεια: 42'Έτ
 ος: 1932\nΔείτε την ταινία από 20-23 Απριλίου 2020 εδώ. \nΠροβολή στο πλαί
 σιο του αφιερώματος 'Η Ταινιοθήκη στο σπίτι'\n http://tainiothiki.gr/el/co
 mponent/rseventspro/event/90-koinoniki-sapila-i-tainiothiki-sto-spiti
DTSTART:20200420T170000Z
DTEND:20200423T170000Z
LOCATION:Στο σπίτι ()
SUMMARY:Κοινωνική σαπίλα | Η Ταινιοθήκη στο σπίτι
URL:http://tainiothiki.gr/el/component/rseventspro/event/90-koinoniki-sapil
 a-i-tainiothiki-sto-spiti
END:VEVENT
END:VCALENDAR
