BEGIN:VCALENDAR
VERSION:2.0
PRODID:-//http://tainiothiki.gr///NONSGML kigkonsult.se iCalcreator 2.10.15//
METHOD:PUBLISH
BEGIN:VEVENT
UID:20260421T122447EEST-3875OKsG9s@http://tainiothiki.gr/
DTSTAMP:20260421T092447Z
DESCRIPTION:ΜΑΡΤΑ ΜΕΣΑΡΟΣ: Η γυναίκα στο επίκεντρο της Ιστορίας\nΣάββατο 21
 /1\n21.30 Υιοθεσία (Adoption\, 1975\, 87’) \nΠρολογίζει η σκηνοθέτης-ακαδη
 μαϊκός Εύα Στεφανή \n\n\n Περισσότερα για το αφιέρωμα εδώ.\nΓενική είσοδος
 : 5€\nΗλεκτρονική προπώληση: tickets.tainiothiki.gr\nΤαινιοθήκη της Ελλάδο
 ςΙερά Οδός 48 και Μεγάλου Αλεξάνδρου\, μετρό Κεραμεικός\, τηλ. 210 3612046
  http://tainiothiki.gr/el/component/rseventspro/event/925-yiothesia-adopti
 on-marta-mesaros
DTSTART:20230121T193000Z
DTEND:20230121T210000Z
LOCATION:Αίθουσα Α (ΙΕΡΑ ΟΔΟΣ 48\, 104 35\, ΚΕΡΑΜΕΙΚΟΣ\, ΑΘΗΝΑ)
SUMMARY:Υιοθεσία - Adoption | ΜΑΡΤΑ ΜΕΣΑΡΟΣ
URL:http://tainiothiki.gr/el/component/rseventspro/event/925-yiothesia-adop
 tion-marta-mesaros
END:VEVENT
END:VCALENDAR
