BEGIN:VCALENDAR
VERSION:2.0
PRODID:-//http://tainiothiki.gr///NONSGML kigkonsult.se iCalcreator 2.10.15//
METHOD:PUBLISH
BEGIN:VEVENT
UID:20260423T155805EEST-5423u7CAlr@http://tainiothiki.gr/
DTSTAMP:20260423T125805Z
DESCRIPTION:Ανοιχτή επιστολή\nΣκηνοθεσία: Γιώργος Σταμπουλόπουλος Διάρκεια:
  75’Έτος: 1967\nΑφύπνιση ενός νεαρού άντρα με καταλύτη μια συνειδητοποιημέ
 νη και γοητευτική δασκάλα.\nΔείτε την ταινία από 29 Απριλίου ως 2 Μαΐου 20
 20 εδώ. \nΠροβολή στο πλαίσιο του αφιερώματος 'Η Ταινιοθήκη στο σπίτι ΙΙ'
 \n http://tainiothiki.gr/el/component/rseventspro/event/94-anoixti-epistol
 i-i-tainiothiki-sto-spiti-ii
DTSTART:20200429T170000Z
DTEND:20200502T170000Z
LOCATION:Στο σπίτι ()
SUMMARY:Ανοιχτή επιστολή | Η Ταινιοθήκη στο σπίτι ΙΙ
URL:http://tainiothiki.gr/el/component/rseventspro/event/94-anoixti-epistol
 i-i-tainiothiki-sto-spiti-ii
END:VEVENT
END:VCALENDAR
