BEGIN:VCALENDAR
VERSION:2.0
PRODID:-//http://tainiothiki.gr///NONSGML kigkonsult.se iCalcreator 2.10.15//
METHOD:PUBLISH
BEGIN:VEVENT
UID:20260425T135910EEST-741312s9cJ@http://tainiothiki.gr/
DTSTAMP:20260425T105910Z
DESCRIPTION:Η διάσωση του μνημείου \nΣκηνοθεσία: Kώστας ΒρεττάκοςΔιάρκεια: 
 95'Έτος: 1987\nΤο χρονικό της διάσωσης και συντήρησης  μεταξύ 1973-86\, κα
 ταγραφή του εγχειρήματος στον βράχο της Ακρόπολης.\nΔείτε την ταινία από 5
 -8 Μαΐου 2020 εδώ. \nΠροβολή στο πλαίσιο του αφιερώματος 'Η Ταινιοθήκη στο
  σπίτι ΙΙ'\n http://tainiothiki.gr/el/component/rseventspro/event/98-i-dia
 sosi-tou-mnimeiou-i-tainiothiki-sto-spiti-ii
DTSTART:20200505T170000Z
DTEND:20200508T170000Z
LOCATION:Στο σπίτι ()
SUMMARY:Η διάσωση του μνημείου | Η Ταινιοθήκη στο σπίτι ΙΙ
URL:http://tainiothiki.gr/el/component/rseventspro/event/98-i-diasosi-tou-m
 nimeiou-i-tainiothiki-sto-spiti-ii
END:VEVENT
END:VCALENDAR
