BEGIN:VCALENDAR
VERSION:2.0
PRODID:-//http://tainiothiki.gr///NONSGML kigkonsult.se iCalcreator 2.10.15//
METHOD:PUBLISH
BEGIN:VEVENT
UID:20260425T153558EEST-9050Hxf0cp@http://tainiothiki.gr/
DTSTAMP:20260425T123558Z
DESCRIPTION:Το νησί της σιωπής \nΣκηνοθεσία: Λίλα Κουρκουλάκου  Διάρκεια: 6
 3'Έτος: 1958\nΜια γενναία ματιά στον εγκλεισμό των λεπρών στη Σπιναλόγκα.
 \nΔείτε την ταινία από 8-11 Μαΐου 2020 εδώ. \nΠροβολή στο πλαίσιο του αφιε
 ρώματος 'Η Ταινιοθήκη στο σπίτι ΙΙ'\n http://tainiothiki.gr/el/component/r
 seventspro/event/99-to-nisi-tis-siopis-i-tainiothiki-sto-spiti-ii
DTSTART:20200508T170000Z
DTEND:20200511T170000Z
LOCATION:Στο σπίτι ()
SUMMARY:Το νησί της σιωπής | Η Ταινιοθήκη στο σπίτι ΙΙ
URL:http://tainiothiki.gr/el/component/rseventspro/event/99-to-nisi-tis-sio
 pis-i-tainiothiki-sto-spiti-ii
END:VEVENT
END:VCALENDAR
