BEGIN:VCALENDAR
VERSION:2.0
PRODID:-//http://tainiothiki.gr///NONSGML kigkonsult.se iCalcreator 2.10.15//
METHOD:PUBLISH
BEGIN:VEVENT
UID:20260421T160111EEST-05812mBdnX@http://tainiothiki.gr/
DTSTAMP:20260421T130111Z
DESCRIPTION:ΑΙΘΟΥΣΑ Α\n CINEMA MADE IN ITALY/ ATHENS 2023\nΔΕΥΤΕΡΑ 23/10\n1
 9:30 Η παραξενιά / La stranezza / Strangeness  (Roberto Andò 103'\, 2022)
 \n\n\n\n\n\nΕΙΣΙΤΗΡΙΑ CINEMA MADE IN ITALY:\n\nΗλεκτρονική προπώληση: http
 s://tickets.tainiothiki.gr/\nΕισιτήριο: 5€. Κάρτα 3 προβολών: 10€\n\nΚΑΤΑΛ
 ΟΓΟΣ - ΠΡΟΓΡΑΜΜΑ\nΟι ταινίες προβάλλονται με ελληνικούς και αγγλικούς υπότ
 ιτλους. http://tainiothiki.gr/en/component/rseventspro/event/1129-la-stran
 ezza-strangeness
DTSTART:20231023T163000Z
DTEND:20231023T181500Z
LOCATION:Αίθουσα Α (ΙΕΡΑ ΟΔΟΣ 48\, 104 35\, ΚΕΡΑΜΕΙΚΟΣ\, ΑΘΗΝΑ)
SUMMARY:Η παραξενιά / La stranezza / Strangeness 
URL:http://tainiothiki.gr/en/component/rseventspro/event/1129-la-stranezza-
 strangeness
END:VEVENT
END:VCALENDAR
