BEGIN:VCALENDAR
VERSION:2.0
PRODID:-//http://tainiothiki.gr///NONSGML kigkonsult.se iCalcreator 2.10.15//
METHOD:PUBLISH
BEGIN:VEVENT
UID:20260422T035410EEST-7020udVhPs@http://tainiothiki.gr/
DTSTAMP:20260422T005410Z
DESCRIPTION:ΑΙΘΟΥΣΑ Α\nΔΕΥΤΕΡΑ 27/04\nΠροεκλογικές Εκστρατείες: Δημοκρατία 
 ή Χειραγώγηση\nΕίσοδος με προσκλήσεις / Θα διατεθεί περιορισμένος αριθμός 
 εισιτηρίων\n18:00 Προσέλευση\n18:15 Χαιρετισμός από την Πρόεδρο του ΔΣ της
  Ταινιοθήκης της Ελλάδος\, Μαρία Κομνηνού\n18:20 Η ώρα του λαού (1982\, 38
 ’) Σκηνοθεσία: Μαρία Κομνηνού\n19:00 Δημοκρατία\, ο δρόμος του σταυρού (20
 12\, 85’) Σκηνοθεσία: Μάρκος Γκαστίν\n20:30 Στρογγυλό τραπέζι\nΟμιλητές:\n
 Μάρκος Γκαστίν – Σκηνοθέτης / ΠαραγωγόςΜαρία Κομνηνού – Πρόεδρος του ΔΣ τη
 ς Ταινιοθήκης της Ελλάδος / Ομότιμη Καθηγήτρια Ε.Κ.Π.ΑΓιάννης Μαυρής – Εκλ
 ογολόγος / Διδάκτορας Πολιτικής Επιστήμης του Πανεπιστημίου ΑθηνώνΜαρίνα Ρ
 ήγου – Δημοσιογράφος / Επίκουρη Καθηγήτρια στο Τμήμα Επικοινωνίας και ΜΜΕ 
 του Πανεπιστημίου Αθηνών \n\n\n\n \n\nΕΙΣΙΤΗΡΙΑ\n6€ (γενική είσοδος) http:
 //tainiothiki.gr/en/component/rseventspro/event/2315-1
DTSTART:20260427T150000Z
DTEND:20260427T190000Z
LOCATION:Αίθουσα Α (ΙΕΡΑ ΟΔΟΣ 48\, 104 35\, ΚΕΡΑΜΕΙΚΟΣ\, ΑΘΗΝΑ)
SUMMARY:Προεκλογικές Εκστρατείες: Δημοκρατία ή Χειραγώγηση | Ημέρα 1
URL:http://tainiothiki.gr/en/component/rseventspro/event/2315-1
END:VEVENT
END:VCALENDAR
