BEGIN:VCALENDAR
VERSION:2.0
PRODID:-//http://tainiothiki.gr///NONSGML kigkonsult.se iCalcreator 2.10.15//
METHOD:PUBLISH
BEGIN:VEVENT
UID:20260422T021040EEST-7533p2sZED@http://tainiothiki.gr/
DTSTAMP:20260421T231040Z
DESCRIPTION:ΑΙΘΟΥΣΑ Α\nΠΕΜΠΤΗ 23/04 - ΚΥΡΙΑΚΗ 26/04 &amp\; ΤΕΤΑΡΤΗ 29/04\n2
 0:40 Εθνικός θησαυρός | Kokuho (Sang-il Lee\, 174') One from the Heart\n\n
 \nΗ Νο1 επιτυχία όλων των εποχών ιαπωνικής ταινίας live action στο Box Off
 ice της Ιαπωνίας (για πρώτη φορά μετά από 22 χρόνια σπάει το ρεκόρ της ται
 νίας στην 1η θέση)\n\nΣΥΝΟΨΗ\nΗ αφήγηση ξεκινά στο Ναγκασάκι το 1964. Μετά
  τον θάνατο του πατέρα του\, αρχηγού μιας συμμορίας Γιακούζα\, ο δεκατετρά
 χρονος ταλαντούχος Κικούο γίνεται προστατευόμενος ενός διάσημου ηθοποιού τ
 ου θεάτρου Καμπούκι. Μαζί με τον Σουνσούκε\, τον γιο του ηθοποιού\, αποφασ
 ίζει να αφιερώσει τη ζωή του σε αυτό το παραδοσιακό θεατρικό είδος. Για δε
 καετίες\, οι δύο νέοι μεγαλώνουν και εξελίσσονται μαζί\, από τη σχολή έως 
 τα μεγαλύτερα θέατρα του της Ιαπωνίας\, μέσα σε δόξα\, αποθέωση και σκάνδα
 λα\, αδερφοσύνη και προδοσίες. Ένας από τους δύο θα γίνει ο σπουδαιότερος 
 ηθοποιός της τέχνης του Καμπούκι.\n\nΛΙΓΑ ΛΟΓΙΑ ΓΙΑ ΤΗΝ ΤΑΙΝΙΑ\nΤο Καμπούκ
 ι αποτελεί ένα παραδοσιακό αμιγώς ιαπωνικό είδος ποιητικού θεάτρου με παρά
 δοση αιώνων\, που στηρίζεται στη χορογραφία\, τη μουσικότητα\, την εκφραστ
 ικότητα και την ακρίβεια των χειρονομιών\, των κινήσεων και των μορφασμών 
 καθώς και του μακιγιάζ και των κοστουμιών \, με ιστορίες που θυμίζουν την 
 πυκνότητα των χαϊκού. Ο συντηρητισμός της ιαπωνικής κοινωνίας απαγόρεψε γρ
 ήγορα την παρουσία των γυναικών σε ρόλους αναθέτοντάς τους στους οναγκάτα\
 , άνδρες ηθοποιούς που δημιούργησαν μια αληθινά ξεχωριστή υποκριτική τέχνη
 . Ταυτόχρονα η τέχνη του Καμπούκι εξελίχτηκε σε μεγάλο βαθμό σε οικογενεια
 κή υπόθεση που μεταβιβαζόταν από γενιά σε γενιά αφήνοντας ελάχιστο ως καθό
 λου χώρο για «εισβολείς».\nΜε καμβά τον αυστηρό\, ακριβή όσο και μαγικό κό
 σμο του θεάτρου Καμπούκι ο σπουδαίος Σανγκ-ιλ Λι υπογράφει μια εκθαμβωτική
  επική saga\, έναν στοχασμό πάνω στη δημιουργία\, την φιλοδοξία\, τις έννο
 ιες της οικογένειας και της φιλίας ακολουθώντας χωρίς ανάσα τους δύο ήρωές
  του σε μια σκληρή όσο και συγκινητική «μονομαχία» που διατρέχει δεκαετίες
  με τερματισμό το φευγαλέο «ιερό δισκοπότηρο»  της τελειότητας μέσα από τη
 ν τέχνη.\n\nΣΗΜΕΙΩΜΑ ΤΟΥ ΣΚΗΝΟΘΕΤΗ\nΠριν από δεκαπέντε χρόνια είχα την ιδέ
 α να κάνω μια ταινία για τους Οναγκάτα (άνδρες ηθοποιούς που ερμηνεύουν γυ
 ναικείους χαρακτήρες) σε παραστάσεις του θεάτρου Καμπούκι. Έκανα μεγάλη έρ
 ευνα τότε και τώρα αναλογίζομαι ότι η ταινία μου ξεκίνησε από εκείνη την π
 αλαιότερη ιδέα. Ήθελα να γράψω μια ιστορία βασισμένη σε έναν πραγματικό ηθ
 οποιό\, αλλά τότε το σχέδιο ήταν υπερβολικά φιλόδοξο για μένα. \nΑργότερα\
 , είχα την ευκαιρία να μιλήσω με τον συγγραφέα Shūichi Yoshida\, του οποίο
 υ το μυθιστόρημα VILLAIN είχα διασκευάσει στον κινηματογράφο. Του ανέφερα 
 την ιδέα για μια ταινία γύρω από το θέατρο Καμπούκι και την βρήκε ενδιαφέρ
 ουσα. Μετά από δύο χρόνια άκουσα ότι το νέο του μυθιστόρημα θα εστίαζε στο
 ν κόσμο του Καμπούκι. Ήθελα να μάθω πώς θα αναπαριστούσε αυτόν τον κόσμο κ
 αι πού θα επικεντρωνόταν. Αρχικά δεν σκέφτηκα να διασκευάσω το βιβλίο του\
 , ΕΘΝΙΚΟΣ ΘΗΣΑΥΡΟΣ - KOKUHO\, γιατί μια προηγούμενη προσπάθεια μου δεν είχ
 ε λειτουργήσει. Σιγά σιγά όμως άρχισε να υπάρχει ενθουσιασμός με την προοπ
 τική να γίνει ταινία το KOKUHO. Ήμουν σίγουρος για ένα πράγμα. Η ταινία θα
  μπορούσε να προχωρήσει μόνο αν βρίσκαμε έναν ηθοποιό ικανό να ερμηνεύσει 
 τον πρωταγωνιστή\, τον Κικούο\, γιατί αυτός θα κουβαλούσε την ταινία. Ευτυ
 χώς είχα την τύχη να συναντήσω τον ηθοποιό Ριο Γιοσιζάβα. Χωρίς υπερβολή\,
  το σχέδιο δεν θα προχωρούσε χωρίς αυτόν. Ο Ρίο Γιοσιζάβα είναι η ταινία. 
 Ο Κικούο\, ο ήρωας που παίζει\, είναι η ραχοκοκαλιά της ταινίας. Αποφάσισα
  να εστιάσω στις επιτυχίες και τις αποτυχίες του\, στην πορεία της ζωής το
 υ\, προς τα πού τον οδηγούσε και πού καταλήγει. Αυτό διαμόρφωσε την ταινία
 . Ως γιος ενός αφεντικού της μαφίας\, η ζωή του Κικούο εναλλάσσεται μέσα α
 πό τις ευλογίες και τις κατάρες της καταγωγής του καθώς μπαίνει στον κόσμο
  του Καμπούκι.\nΑυτή ήταν η πλοκή αλλά αυτό που ήταν ακόμα πιο σημαντικό ή
 ταν να δείξουμε την βαθιά σύνδεση του Κικούο με τον Σουνσούκε. Υπάρχει ένα
  στοιχείο γιν-γιανγκ στη σχέση τους και οι ψυχές μοιάζουν να ενώνονται στη
  σκηνή. Αναπτύσσοντας το σενάριο\, επέλεξα σκηνές από θεατρικά έργα του Κα
 μπούκι που συμβολικά θα έδειχναν τις καλές και τις κακές στιγμές στις ζωές
  αυτών των δύο ανδρών μαζί και πώς γίνονται ένα. Ο Κικούο και ο Σουνσούκε 
 βρίσκονται μέσα στον μοναδικό κόσμο του Καμπούκι όπου η τέχνη κληρονομείτα
 ι\, διατηρώντας την μοναδική αυτή τέχνη ανάμεσα στις γενιές ηθοποιών. Το α
 ρχικό μου ενδιαφέρον για τους Οναγκάτα εξηγεί τον ενθουσιασμό για το Καμπο
 ύκι. Υπάρχει μια διαχρονική αξία στους Οναγκάτα\, μια ανδρόγυνη αποτύπωση 
 του άλλου. Είναι μοναδικοί\,  αισθησιακοί με ένα σοφιστικέ τρόπο\, ο αισθη
 σιασμός τους σε αγγίζει αναπάντεχα. Δεν ξέρω από πού προέρχεται\, ίσως από
  την εντατική εκπαίδευση\; Αλλά δεν ήθελα να προσλάβουμε καταρτισμένους ηθ
 οποιούς του Καμπούκι για να κάνουν τις σκηνές των παραστάσεων αντί για του
 ς πρωταγωνιστές μας. Ήμουν σίγουρος ότι έπρεπε να κάνουν τις σκηνές του θε
 άτρου οι ίδιοι ώστε να εμφυσήσουμε ζωή στην ταινία και να είμαστε πιο αυθε
 ντικοί. Ο χαρακτήρας του Κικούο είναι σε ένα ταξίδι ζωής για να βρει ένα φ
 ευγαλέο «θέαμα». Πιστεύω ότι αυτό είναι το θέαμα που ο Ρίο Γιοσιζάβα είδε 
 και ένιωσε όσο προσπαθούσε να κατακτήσει τον απαιτητικό ρόλο ενός ηθοποιού
  του Καμπούκι.\n   \n\nΕΙΣΙΤΗΡΙΑ\n-Είσοδος για όλες τις αίθουσες: 7€\, 5€*
  (μειωμένο)\nΚάθε Δευτέρα ισχύει προσφορά εισόδου για 2 άτομα με ένα εισιτ
 ήριο στα 7€ από το ταμείο\n*Το μειωμένο εισιτήριο αφορά στις παρακάτω κατη
 γορίες:μαθητές\, φοιτητές\, άτομα άνω των 65 ετών\, άνεργοι\, άνθρωποι με 
 αναπηρία – ΑμεΑ (ισχύει και για έναν/μία συνοδό)\, δάσκαλοι-καθηγητές\, ατ
 έλειες.\nΠρονόμια μελών σε ΜΜΕ\n-Αθηνόραμα Club (Αθηνόραμα): Από Δευτέρα έ
 ως και Πέμπτη\, ειδική τιμή € 5\nΚλείστε ηλεκτρονικά τα εισιτήριά σας στο:
  https://tickets.tainiothiki.gr/Σημειώνεται πως οι δικαιούχοι μειωμένου ει
 σιτηρίου\, θα πρέπει να προμηθευτούν τα εισιτήριά τους από το ταμείο της Τ
 αινιοθήκης. \n  http://tainiothiki.gr/en/component/rseventspro/event/2319-
 kokuho
DTSTART:20260429T174000Z
DTEND:20260429T203500Z
LOCATION:Αίθουσα Α (ΙΕΡΑ ΟΔΟΣ 48\, 104 35\, ΚΕΡΑΜΕΙΚΟΣ\, ΑΘΗΝΑ)
SUMMARY:Εθνικός θησαυρός | Kokuho 
URL:http://tainiothiki.gr/en/component/rseventspro/event/2319-kokuho
END:VEVENT
END:VCALENDAR
