BEGIN:VCALENDAR
VERSION:2.0
PRODID:-//http://tainiothiki.gr///NONSGML kigkonsult.se iCalcreator 2.10.15//
METHOD:PUBLISH
BEGIN:VEVENT
UID:20260423T140514EEST-1566lvepSA@http://tainiothiki.gr/
DTSTAMP:20260423T110514Z
DESCRIPTION:ΑΙΘΟΥΣΑ Α\nΠΕΜΠΤΗ 23/04 - ΠΑΡΑΣΚΕΥΗ 24/04\n18:30 Sinatra! Etern
 ity (M. Oblowitz\, Γ. Παπαθεοδώρου\, 112')\n\n\n\nΣε έναν κόσμο όπου η δόξ
 α μπορεί να είναι εφήμερη και η πτώση αναπόφευκτη\, το «Sinatra! Eternity»
  θέτει ένα διαχρονικό ερώτημα: πόση δύναμη χρειάζεται για να ξανασταθεί κα
 νείς όταν όλα μοιάζουν χαμένα\;\n\nΣΥΝΟΨΗ\nΟ μύθος του Frank Sinatra ζωντα
 νεύει μέσα από μια καλλιτεχνική και βαθιά συναισθηματική προσέγγιση που απ
 ομακρύνεται από τη συμβατική βιογραφία\, εστιάζοντας όχι μόνο στη δόξα αλλ
 ά και στις σκοτεινές\, εύθραυστες στιγμές ενός ανθρώπου που πάλευε με τον 
 ίδιο του τον εαυτό. Η ταινία επιχειρεί να φωτίσει τον καλλιτέχνη πίσω από 
 τον θρύλο\, αποκαλύπτοντας τις αντιφάσεις\, τις αδυναμίες και τη δύναμη τη
 ς επανεκκίνησης.\nΜέσα από μια μη γραμμική αφήγηση\, το Sinatra! Eternity 
 επικεντρώνεται στην κρίσιμη περίοδο της καριέρας του Sinatra\, όταν η φωνή
  του και η δημοτικότητά του βρίσκονταν σε πτώση. Παράλληλα\, αναδεικνύεται
  η θυελλώδης σχέση του με την Ava Gardner\, καθώς και η εσωτερική του σύγκ
 ρουση ανάμεσα στη φιλοδοξία\, την αγάπη και την προσωπική του κατάρρευση. 
 Οι διαφορετικές πτυχές της ζωής του συγκλίνουν σε μια καθοριστική στιγμή ε
 πιστροφής\, όπου η επιμονή και το ταλέντο οδηγούν στη δικαίωση και την ανα
 γνώριση.\n  \n\nΕΙΣΙΤΗΡΙΑ\n-Είσοδος για όλες τις αίθουσες: 7€\, 5€* (μειωμ
 ένο)\nΚάθε Δευτέρα ισχύει προσφορά εισόδου για 2 άτομα με ένα εισιτήριο στ
 α 7€ από το ταμείο\n*Το μειωμένο εισιτήριο αφορά στις παρακάτω κατηγορίες:
 μαθητές\, φοιτητές\, άτομα άνω των 65 ετών\, άνεργοι\, άνθρωποι με αναπηρί
 α – ΑμεΑ (ισχύει και για έναν/μία συνοδό)\, δάσκαλοι-καθηγητές\, ατέλειες.
 \nΠρονόμια μελών σε ΜΜΕ\n-Αθηνόραμα Club (Αθηνόραμα): Από Δευτέρα έως και 
 Πέμπτη\, ειδική τιμή € 5\nΚλείστε ηλεκτρονικά τα εισιτήριά σας στο: https:
 //tickets.tainiothiki.gr/Σημειώνεται πως οι δικαιούχοι μειωμένου εισιτηρίο
 υ\, θα πρέπει να προμηθευτούν τα εισιτήριά τους από το ταμείο της Ταινιοθή
 κης. \n  http://tainiothiki.gr/en/component/rseventspro/event/2320-sinatra
 -eternity
DTSTART:20260423T153000Z
DTEND:20260423T172500Z
LOCATION:Αίθουσα Α (ΙΕΡΑ ΟΔΟΣ 48\, 104 35\, ΚΕΡΑΜΕΙΚΟΣ\, ΑΘΗΝΑ)
SUMMARY:Sinatra! Eternity 
URL:http://tainiothiki.gr/en/component/rseventspro/event/2320-sinatra-etern
 ity
END:VEVENT
END:VCALENDAR
