BEGIN:VCALENDAR
VERSION:2.0
PRODID:-//http://tainiothiki.gr///NONSGML kigkonsult.se iCalcreator 2.10.15//
METHOD:PUBLISH
BEGIN:VEVENT
UID:20260422T021022EEST-62909grGb0@http://tainiothiki.gr/
DTSTAMP:20260421T231022Z
DESCRIPTION:ΑΙΘΟΥΣΑ Β\nΠΕΜΠΤΗ 23/04 - ΤΕΤΑΡΤΗ 29/04\n19:30 I was a stranger
  ( Brandt Andersen\, 103') TFG\n\n\n\nΜία καθηλωτική\, συγκινητική\, βαθιά
  ανθρώπινη ιστορία για τα όρια που ξεπερνά κανείς όταν προσπαθεί να προστα
 τέψει αυτούς που αγαπά\n\nΣΥΝΟΨΗ\nΌταν μια Σύρια γιατρός αναγκάζεται να εγ
 καταλείψει το Χαλέπι μαζί με τη μικρή της κόρη\, μια απελπισμένη επιλογή π
 υροδοτεί μια αλυσίδα γεγονότων που ξεπερνά σύνορα και παρασύρει τέσσερις α
 γνώστους στην ίδια καταιγίδα. Ένας διακινητής που προσπαθεί να σώσει τον γ
 ιο του. Ένας στρατιώτης που παλεύει με τη συνείδησή του. Ένας ποιητής που 
 αναζητά μία πατρίδα. Ένας Έλληνας κυβερνήτης του λιμενικού\, διχασμένος αν
 άμεσα στο καθήκον και την ανθρωπιά.\nΟι πορείες τους συγκρούονται μέσα σε 
 μια νύχτα στη Μεσόγειο\, εκεί όπου η επιβίωση είναι αβέβαιη και η ανθρωπιά
  αποκαλύπτεται στην πιο ωμή της μορφή.\n \n\nΕΙΣΙΤΗΡΙΑ\n-Είσοδος για όλες 
 τις αίθουσες: 7€\, 5€* (μειωμένο)\nΚάθε Δευτέρα ισχύει προσφορά εισόδου γι
 α 2 άτομα με ένα εισιτήριο στα 7€ από το ταμείο\n*Το μειωμένο εισιτήριο αφ
 ορά στις παρακάτω κατηγορίες:μαθητές\, φοιτητές\, άτομα άνω των 65 ετών\, 
 άνεργοι\, άνθρωποι με αναπηρία – ΑμεΑ (ισχύει και για έναν/μία συνοδό)\, δ
 άσκαλοι-καθηγητές\, ατέλειες.\nΠρονόμια μελών σε ΜΜΕ\n-Αθηνόραμα Club (Αθη
 νόραμα): Από Δευτέρα έως και Πέμπτη\, ειδική τιμή € 5\nΚλείστε ηλεκτρονικά
  τα εισιτήριά σας στο: https://tickets.tainiothiki.gr/Σημειώνεται πως οι δ
 ικαιούχοι μειωμένου εισιτηρίου\, θα πρέπει να προμηθευτούν τα εισιτήριά το
 υς από το ταμείο της Ταινιοθήκης. \n  http://tainiothiki.gr/en/component/r
 seventspro/event/2324-i-was-a-stranger
DTSTART:20260423T163000Z
DTEND:20260429T181500Z
LOCATION:Αίθουσα Β (ΙΕΡΑ ΟΔΟΣ 48\, 104 35\, ΚΕΡΑΜΕΙΚΟΣ\, ΑΘΗΝΑ)
SUMMARY:I was a stranger 
URL:http://tainiothiki.gr/en/component/rseventspro/event/2324-i-was-a-stran
 ger
END:VEVENT
END:VCALENDAR
