BEGIN:VCALENDAR
VERSION:2.0
PRODID:-//http://tainiothiki.gr///NONSGML kigkonsult.se iCalcreator 2.10.15//
METHOD:PUBLISH
BEGIN:VEVENT
UID:20260421T205328EEST-3775ZuZzv8@http://tainiothiki.gr/
DTSTAMP:20260421T175328Z
DESCRIPTION:CINEMA MADE IN ITALY/ ATHENS 2022\nΣΑΒΒΑΤΟ 22/10\n22:00 Ατλαντί
 δα (Atlantide\, Yuri Ancarani\, 100’ 2021)\nΠαρουσία του σκηνοθέτη \n\n- C
 INEMA MADE IN ITALY: Εισιτήριο: 5.00 €/ Κάρτα 5 ταινιών: 15.00 €- CINEMA M
 ADE IN ITALY - Ταινίες online: 3€/ Πακέτο 3 ταινιών: 5€Ηλεκτρονική προπώλη
 ση: https://tickets.tainiothiki.gr/ http://tainiothiki.gr/en/component/rse
 ventspro/event/772-atlantide
DTSTART:20221022T190000Z
DTEND:20221022T204500Z
LOCATION:Αίθουσα Α (ΙΕΡΑ ΟΔΟΣ 48\, 104 35\, ΚΕΡΑΜΕΙΚΟΣ\, ΑΘΗΝΑ)
SUMMARY:Ατλαντίδα / Atlantide
URL:http://tainiothiki.gr/en/component/rseventspro/event/772-atlantide
END:VEVENT
END:VCALENDAR
