BEGIN:VCALENDAR
VERSION:2.0
PRODID:-//http://tainiothiki.gr///NONSGML kigkonsult.se iCalcreator 2.10.15//
METHOD:PUBLISH
BEGIN:VEVENT
UID:20260425T032204EEST-4860MUDtPn@http://tainiothiki.gr/
DTSTAMP:20260425T002204Z
DESCRIPTION:CINEMA MADE IN ITALY/ ATHENS 2022\nΚΥΡΙΑΚΗ 23/10\n21:45 Στο περ
 ιθώριο (Margini / Margins\, Niccolò Falsetti\, 91’\, 2022)\nΠαρουσία του σ
 κηνοθέτη\n\n\n- CINEMA MADE IN ITALY: Εισιτήριο: 5.00 €/ Κάρτα 5 ταινιών: 
 15.00 €- CINEMA MADE IN ITALY - Ταινίες online: 3€/ Πακέτο 3 ταινιών: 5€Ηλ
 εκτρονική προπώληση: https://tickets.tainiothiki.gr/ http://tainiothiki.gr
 /en/component/rseventspro/event/775-margini-margins
DTSTART:20221023T184500Z
DTEND:20221023T193000Z
LOCATION:Αίθουσα Α (ΙΕΡΑ ΟΔΟΣ 48\, 104 35\, ΚΕΡΑΜΕΙΚΟΣ\, ΑΘΗΝΑ)
SUMMARY:Στο περιθώριο / Margini / Margins
URL:http://tainiothiki.gr/en/component/rseventspro/event/775-margini-margin
 s
END:VEVENT
END:VCALENDAR
