BEGIN:VCALENDAR
VERSION:2.0
PRODID:-//http://tainiothiki.gr///NONSGML kigkonsult.se iCalcreator 2.10.15//
METHOD:PUBLISH
BEGIN:VEVENT
UID:20260424T205416EEST-51096sS53g@http://tainiothiki.gr/
DTSTAMP:20260424T175416Z
DESCRIPTION:ΘΕΡΙΝΟΣ ΚΙΝΗΜΑΤΟΓΡΑΦΟΣ ΛΑΪΣ\nΤΕΤΑΡΤΗ 05/07 \n20.00 Once More (Κ
 ώστας Μάνδυλας\, 2022\, 17’)\nΕκδήλωση της Vans. Η Ελληνική Skateboarding 
 ομάδα της Vans εξερευνεί και επαναπροσδιορίζει το αστικό τοπίο.\nΕίσοδος ε
 λεύθερη\n http://tainiothiki.gr/en/programme/calendar/event/1071-once-more
 -vans-skateboarding
DTSTART:20230705T170000Z
DTEND:20230705T190000Z
LOCATION:Θερινό Λαΐς (ΙΕΡΑ ΟΔΟΣ 48\, 104 35\, ΚΕΡΑΜΕΙΚΟΣ\, ΑΘΗΝΑ	)
SUMMARY:Once More - Vans Skateboarding
URL:http://tainiothiki.gr/en/programme/calendar/event/1071-once-more-vans-s
 kateboarding
END:VEVENT
END:VCALENDAR
