BEGIN:VCALENDAR
VERSION:2.0
PRODID:-//http://tainiothiki.gr///NONSGML kigkonsult.se iCalcreator 2.10.15//
METHOD:PUBLISH
BEGIN:VEVENT
UID:20260424T205442EEST-0289VjkH65@http://tainiothiki.gr/
DTSTAMP:20260424T175442Z
DESCRIPTION:Radio Nights\nΠέμπτη 6 Ιουλίου\n21.00 ΜΕ ΤΑ ΦΩΤΑ ΝΥΣΤΑΓΜΕΝΑΕλλά
 δα | 2001 | 11’ | Έγχρωμο\nΜΑΓΝΗΤΙΚΟΙ ΠΑΛΜΟΙ (MAGNETIC BEATS/ LES MAGNÉTIQ
 UES)Γαλλία/Γερμανία | 2021 | 98’ | Αισθηματική\, Δράμα | Έγχρωμη\nΠρολογίζ
 ουν οι Μαρία Κομνηνού και Μαργαρίτα Μυτιληναίου.Είσοδος με προσκλήσεις. Θα
  διατεθεί περιορισμένος αριθμός εισιτηρίων.\n\n\n\nΠερισσότερα για το αφιέ
 ρωμα και τις ταινίες εδώ\nΤοποθεσία: Ταινιοθήκη της Ελλάδος - Ιερά Οδός 48
  και Μεγάλου Αλεξάνδρου\, μετρό Κεραμεικός\, τηλ. 210 3612046\nΗμερομηνίες
 : Πέμπτη 6 έως Τρίτη 11 Ιουλίου\, 2023\nΕισιτήρια: 5 ευρώ (ανά προβολή –στ
 ην τιμή περιλαμβάνεται και η ταινία μικρού μήκους του συγκεκριμένου προγρά
 μματος) / 10 ευρώ (4 προβολές) / Άνεργοι\, ΑμεΑ (και οι συνοδοί τους): ελε
 ύθερη είσοδος.\nΠροπώληση: tickets.tainiothiki.gr\n  http://tainiothiki.gr
 /en/programme/calendar/event/1072-magnetic-beats-radio-nights
DTSTART:20230706T180000Z
DTEND:20230706T200000Z
LOCATION:Θερινό Λαΐς (ΙΕΡΑ ΟΔΟΣ 48\, 104 35\, ΚΕΡΑΜΕΙΚΟΣ\, ΑΘΗΝΑ	)
SUMMARY:Μαγνητικοί παλμοί (Magnetic Beats) & Με τα φώτα νυσταγμένα | ΕΝΑΡΞΗ
  RADIO NIGHTS
URL:http://tainiothiki.gr/en/programme/calendar/event/1072-magnetic-beats-r
 adio-nights
END:VEVENT
END:VCALENDAR
