BEGIN:VCALENDAR
VERSION:2.0
PRODID:-//http://tainiothiki.gr///NONSGML kigkonsult.se iCalcreator 2.10.15//
METHOD:PUBLISH
BEGIN:VEVENT
UID:20260424T162436EEST-4321afV27G@http://tainiothiki.gr/
DTSTAMP:20260424T132436Z
DESCRIPTION:ΘΕΡΙΝΟΣ ΚΙΝΗΜΑΤΟΓΡΑΦΟΣ ΛΑΪΣ\n21:00 'Μέρες και νύχτες της Δήμητρ
 ας Κ' (72') &amp\; 'Κουτί' (11') της Εύας Στεφανή\nΠρολογίζει ο Άγγελος Φρ
 αντζής http://tainiothiki.gr/en/programme/calendar/event/1109-
DTSTART:20230926T180000Z
DTEND:20230926T193000Z
LOCATION:Θερινό Λαΐς (ΙΕΡΑ ΟΔΟΣ 48\, 104 35\, ΚΕΡΑΜΕΙΚΟΣ\, ΑΘΗΝΑ	)
SUMMARY:Μέρες και νύχτες της Δήμητρας Κ & Κουτί
URL:http://tainiothiki.gr/en/programme/calendar/event/1109-
END:VEVENT
END:VCALENDAR
