BEGIN:VCALENDAR
VERSION:2.0
PRODID:-//http://tainiothiki.gr///NONSGML kigkonsult.se iCalcreator 2.10.15//
METHOD:PUBLISH
BEGIN:VEVENT
UID:20260424T162611EEST-6544ItrAnO@http://tainiothiki.gr/
DTSTAMP:20260424T132611Z
DESCRIPTION:ΤΕΤΑΡΤΗ 27/09\n20:00  Coop De Chance | Γυρίσματα της Τύχης (96'
 \, Γούντι Άλεν) Spentzos\n22:00  Coop De Chance | Γυρίσματα της Τύχης (96'
 \, Γούντι Άλεν) Spentzos\n\n http://tainiothiki.gr/en/programme/calendar/e
 vent/1111-coop-de-chance
DTSTART:20230927T170000Z
DTEND:20230927T184000Z
LOCATION:Θερινό Λαΐς (ΙΕΡΑ ΟΔΟΣ 48\, 104 35\, ΚΕΡΑΜΕΙΚΟΣ\, ΑΘΗΝΑ	)
SUMMARY: Γυρίσματα της Τύχης | Coop De Chance
URL:http://tainiothiki.gr/en/programme/calendar/event/1111-coop-de-chance
END:VEVENT
END:VCALENDAR
