BEGIN:VCALENDAR
VERSION:2.0
PRODID:-//http://tainiothiki.gr///NONSGML kigkonsult.se iCalcreator 2.10.15//
METHOD:PUBLISH
BEGIN:VEVENT
UID:20260424T150204EEST-8545EfGGE4@http://tainiothiki.gr/
DTSTAMP:20260424T120204Z
DESCRIPTION:ΑΙΘΟΥΣΑ Β\n\nΠΑΡΑΣΚΕΥΗ 10/11\n17:30 Ευχαριστούμε Ουγγαρία – Μοί
 ρες στη σκιά του ελληνικού εμφυλίου – Βίκτωρας Παπατσιώρας \nΜια παραγωγή 
 της Αυτοδιοίκησης Ελλήνων Βουδαπέστης \nΕλεύθερη είσοδος\n\n\n\n\n\n http:
 //tainiothiki.gr/en/programme/calendar/event/1161-
DTSTART:20231110T153000Z
DTEND:20231110T183000Z
LOCATION:Αίθουσα Β (ΙΕΡΑ ΟΔΟΣ 48\, 104 35\, ΚΕΡΑΜΕΙΚΟΣ\, ΑΘΗΝΑ)
SUMMARY:Ευχαριστούμε Ουγγαρία – Μοίρες στη σκιά του ελληνικού εμφυλίου 
URL:http://tainiothiki.gr/en/programme/calendar/event/1161-
END:VEVENT
END:VCALENDAR
