BEGIN:VCALENDAR
VERSION:2.0
PRODID:-//http://tainiothiki.gr///NONSGML kigkonsult.se iCalcreator 2.10.15//
METHOD:PUBLISH
BEGIN:VEVENT
UID:20260424T151056EEST-5873pNrRtJ@http://tainiothiki.gr/
DTSTAMP:20260424T121056Z
DESCRIPTION:To 7ο Φεστιβάλ WIFT GR 50/50 Ισότητα και στον Κινηματογράφο έρχ
 εται στην Ταινιοθήκη της Ελλάδος με φετινή θεματική «Γυναίκες Χωρίς Σύνορα
 ».\n- Από 23 - 26 Νοεμβρίου - Είσοδος ελεύθερη\nΔείτε το αναλυτικό πρόγραμ
 μα ανά ημέρα εδώ\n\n http://tainiothiki.gr/en/programme/calendar/event/116
 9-7-wift-gr-50-50
DTSTART:20231123T160000Z
DTEND:20231126T190000Z
LOCATION:Αίθουσα Α (ΙΕΡΑ ΟΔΟΣ 48\, 104 35\, ΚΕΡΑΜΕΙΚΟΣ\, ΑΘΗΝΑ)
SUMMARY:7ο Φεστιβάλ WIFT GR 50/50 Ισότητα και στον Κινηματογράφο 
URL:http://tainiothiki.gr/en/programme/calendar/event/1169-7-wift-gr-50-50
END:VEVENT
END:VCALENDAR
