BEGIN:VCALENDAR
VERSION:2.0
PRODID:-//http://tainiothiki.gr///NONSGML kigkonsult.se iCalcreator 2.10.15//
METHOD:PUBLISH
BEGIN:VEVENT
UID:20260424T134915EEST-1278iTFuel@http://tainiothiki.gr/
DTSTAMP:20260424T104915Z
DESCRIPTION:Αυτόν το Δεκέμβριο\, το Φεστιβάλ Πρωτοποριακού Κινηματογράφου τ
 ης Αθήνας θα σας παρουσιάσει Το αινιγματικό σινεμά της Angela Schanelec. Σ
 ας ετοιμάζουμε μια ρετροσπεκτίβα του κινηματογραφικού της έργου στην Ταινι
 οθήκη της Ελλάδος σε συνεργασία με το Goethe-Institut Athen με προβολές\, 
 καλεσμένους και masterclass για κάθε κινηματογραφόφιλο! Περισσότερα σύντομ
 α. http://tainiothiki.gr/en/programme/calendar/event/1170-angela-schanelec
DTSTART:20231207T170000Z
DTEND:20231212T190000Z
LOCATION:Αίθουσα Α (ΙΕΡΑ ΟΔΟΣ 48\, 104 35\, ΚΕΡΑΜΕΙΚΟΣ\, ΑΘΗΝΑ)
SUMMARY:Το αινιγματικό σινεμά της Angela Schanelec
URL:http://tainiothiki.gr/en/programme/calendar/event/1170-angela-schanelec
END:VEVENT
END:VCALENDAR
