BEGIN:VCALENDAR
VERSION:2.0
PRODID:-//http://tainiothiki.gr///NONSGML kigkonsult.se iCalcreator 2.10.15//
METHOD:PUBLISH
BEGIN:VEVENT
UID:20260424T135026EEST-4724II1xJ3@http://tainiothiki.gr/
DTSTAMP:20260424T105026Z
DESCRIPTION: Το αινιγματικό σινεμά της Angela Schanelec\nΠαρασκευή 8 Δεκεμβ
 ρίου \nΤαινιοθήκη της Ελλάδος\n19.00 Το καλοκαίρι που περνά / Mein langsam
 es Leben 85’\n*Ελληνικοί και Αγγλικοί υπότιτλοι\nΠαρουσία της σκηνοθέτριας
  \n\n\n\nΕΙΣΙΤΗΡΙΑ\n\nΑνά προβολή: 5€\nΚάρτα 5 προβολών: 10€\nΠροπώληση (π
 ροβολές Ταινιοθήκης): https://tickets.tainiothiki.gr\n\n\nΚΑΤΑΛΟΓΟΣ\nhttp:
 //www.tainiothiki.gr/docs/catalogue_schanelec_2023.pdf\n http://tainiothik
 i.gr/en/programme/calendar/event/1184-mein-langsames-leben
DTSTART:20231208T170000Z
DTEND:20231208T183000Z
LOCATION:Αίθουσα Α (ΙΕΡΑ ΟΔΟΣ 48\, 104 35\, ΚΕΡΑΜΕΙΚΟΣ\, ΑΘΗΝΑ)
SUMMARY:Το καλοκαίρι που περνά / Mein langsames Leben 
URL:http://tainiothiki.gr/en/programme/calendar/event/1184-mein-langsames-l
 eben
END:VEVENT
END:VCALENDAR
