BEGIN:VCALENDAR
VERSION:2.0
PRODID:-//http://tainiothiki.gr///NONSGML kigkonsult.se iCalcreator 2.10.15//
METHOD:PUBLISH
BEGIN:VEVENT
UID:20260424T134602EEST-0307Ku6rDO@http://tainiothiki.gr/
DTSTAMP:20260424T104602Z
DESCRIPTION: Το αινιγματικό σινεμά της Angela Schanelec\nΣάββατο 9 Δεκεμβρί
 ου\nGoethe-Institut Athen\n17.00 Masterclass\nΣυντονισμός: Στέλλα Θεοδωράκ
 η (σκηνοθέτρια\, σεναριογράφος και παραγωγός)\nΘα υπάρχει δυνατότητα ταυτό
 χρονης διερμηνείας (Γερμανικά\, Ελληνικά)\nΕλεύθερη είσοδος\n\n\n\nΕΙΣΙΤΗΡ
 ΙΑ\n\nΑνά προβολή: 5€\nΚάρτα 5 προβολών: 10€\nΠροπώληση (προβολές Ταινιοθή
 κης): https://tickets.tainiothiki.gr\n\n\nΚΑΤΑΛΟΓΟΣ\nhttp://www.tainiothik
 i.gr/docs/catalogue_schanelec_2023.pdf\n http://tainiothiki.gr/en/programm
 e/calendar/event/1186-masterclass-angela-schanelec
DTSTART:20231209T150000Z
DTEND:20231209T163000Z
LOCATION:Goethe-Institut Athen (Ομήρου 14-16\, T.K. 106 72\,  Αθήνα)
SUMMARY:MASTERCLASS / Angela Schanelec
URL:http://tainiothiki.gr/en/programme/calendar/event/1186-masterclass-ange
 la-schanelec
END:VEVENT
END:VCALENDAR
