BEGIN:VCALENDAR
VERSION:2.0
PRODID:-//http://tainiothiki.gr///NONSGML kigkonsult.se iCalcreator 2.10.15//
METHOD:PUBLISH
BEGIN:VEVENT
UID:20260424T122737EEST-1978VeMIBU@http://tainiothiki.gr/
DTSTAMP:20260424T092737Z
DESCRIPTION:ΑΙΘΟΥΣΑ Β\nΤΟ ΦΕΣΤΙΒΑΛ ΟΛΥΜΠΙΑΣ ΠΑΕΙ ΤΑΙΝΙΟΘΗΚΗ\nΣΑΒΒΑΤΟ 20/01
 \n20:00 School cinema: η εκπαιδευτική δραστηριότητα του 26ου Φεστιβάλ Ολυμ
 πίας\n\n\n  \n-Είσοδος στην εκδήλωση Το Φεστιβάλ Ολυμπίας πάει Ταινιοθήκη
 \nΗμερήσιο εισιτήριο για ενήλικες: 9 ευρώ\nΗμερήσιο εισιτήριο για παιδιά: 
 6 ευρώ\nΕίσοδος ανά προβολή: 5 ευρώ\nΣτις προβολές της Camera Zizanio\, η 
 είσοδος είναι δωρεάν http://tainiothiki.gr/en/programme/calendar/event/125
 8-school-cinema-26
DTSTART:20240120T180000Z
DTEND:20240120T190000Z
LOCATION:Αίθουσα Β (ΙΕΡΑ ΟΔΟΣ 48\, 104 35\, ΚΕΡΑΜΕΙΚΟΣ\, ΑΘΗΝΑ)
SUMMARY:School cinema: η εκπαιδευτική δραστηριότητα του 26ου Φεστιβάλ Ολυμπ
 ίας | ΤΟ ΦΕΣΤΙΒΑΛ ΟΛΥΜΠΙΑΣ ΠΑΕΙ ΤΑΙΝΙΟΘΗΚΗ
URL:http://tainiothiki.gr/en/programme/calendar/event/1258-school-cinema-26
END:VEVENT
END:VCALENDAR
