BEGIN:VCALENDAR
VERSION:2.0
PRODID:-//http://tainiothiki.gr///NONSGML kigkonsult.se iCalcreator 2.10.15//
METHOD:PUBLISH
BEGIN:VEVENT
UID:20260424T095021EEST-96930PZvVT@http://tainiothiki.gr/
DTSTAMP:20260424T065021Z
DESCRIPTION: Νέος Φινλανδικός Κινηματογράφος\nΑΙΘΟΥΣΑ Α\nΠαρασκευή 22 Μαρτί
 ου\n19:00 Εκκόλαψη /Hatching / Pahanhautoja\n(Hanna Bergholm\, Φινλανδία\,
  2022\, μυθοπλασία\, 91’) Παρουσία της σκηνοθέτριας\n\n\n\n\nΕΙΣΙΤΗΡΙΑ\nΕι
 σιτήριο: 5€ ανά προβολή Κάρτα 3 προβολών / 10 €\nΗλεκτρονική προπώληση: ht
 tps://tickets.tainiothiki.gr/\nΣημειώνεται πως η κάρτα πολλαπλών προβολών 
 είναι διαθέσιμη μόνο από το φυσικό ταμείο της Ταινιοθήκης. \n http://taini
 othiki.gr/en/programme/calendar/event/1339-hatching-pahanhautoja
DTSTART:20240322T170000Z
DTEND:20240322T184500Z
LOCATION:Αίθουσα Α (ΙΕΡΑ ΟΔΟΣ 48\, 104 35\, ΚΕΡΑΜΕΙΚΟΣ\, ΑΘΗΝΑ)
SUMMARY:Εκκόλαψη / Hatching / Pahanhautoja
URL:http://tainiothiki.gr/en/programme/calendar/event/1339-hatching-pahanha
 utoja
END:VEVENT
END:VCALENDAR
