BEGIN:VCALENDAR
VERSION:2.0
PRODID:-//http://tainiothiki.gr///NONSGML kigkonsult.se iCalcreator 2.10.15//
METHOD:PUBLISH
BEGIN:VEVENT
UID:20260424T094945EEST-3866jZ9D1M@http://tainiothiki.gr/
DTSTAMP:20260424T064945Z
DESCRIPTION: Νέος Φινλανδικός Κινηματογράφος\nΑΙΘΟΥΣΑ Α\nΤετάρτη 27 Μαρτίου
 \n21:30 Ο ευθανατιστής / Euthanizer / Armomurhaaja \n(Teemu Nikki\, Φινλαν
 δία\, 2017\, μυθοπλασία\, 85’)\n\n\n\n\nΕΙΣΙΤΗΡΙΑ\nΕισιτήριο: 5€ ανά προβο
 λή Κάρτα 3 προβολών / 10 €\nΗλεκτρονική προπώληση: https://tickets.tainiot
 hiki.gr/\nΣημειώνεται πως η κάρτα πολλαπλών προβολών είναι διαθέσιμη μόνο 
 από το φυσικό ταμείο της Ταινιοθήκης. \n http://tainiothiki.gr/en/programm
 e/calendar/event/1352-euthanizer-armomurhaaja
DTSTART:20240327T193000Z
DTEND:20240327T210000Z
LOCATION:Αίθουσα Α (ΙΕΡΑ ΟΔΟΣ 48\, 104 35\, ΚΕΡΑΜΕΙΚΟΣ\, ΑΘΗΝΑ)
SUMMARY:Ο ευθανατιστής / Euthanizer / Armomurhaaja
URL:http://tainiothiki.gr/en/programme/calendar/event/1352-euthanizer-armom
 urhaaja
END:VEVENT
END:VCALENDAR
