BEGIN:VCALENDAR
VERSION:2.0
PRODID:-//http://tainiothiki.gr///NONSGML kigkonsult.se iCalcreator 2.10.15//
METHOD:PUBLISH
BEGIN:VEVENT
UID:20260424T083920EEST-8615JndvgG@http://tainiothiki.gr/
DTSTAMP:20260424T053920Z
DESCRIPTION:Αστυγραφίες στην Οθόνη\nΑΙΘΟΥΣΑ Α\nΚυριακή 14 Απριλίου \n20:00 
 Τα χέρια πάνω από την πόλη / Hands Over the City /  Le mani sulla città\n(
 Francesco Rosi 101’)\n\n\n\n\nΕΙΣΙΤΗΡΙΑ\nΕισιτήριο: 5€ ανά προβολή Κάρτα 3
  προβολών / 10 €\nΗλεκτρονική προπώληση: https://tickets.tainiothiki.gr/\n
 Σημειώνεται πως η κάρτα πολλαπλών προβολών είναι διαθέσιμη μόνο από το φυσ
 ικό ταμείο της Ταινιοθήκης. \n http://tainiothiki.gr/en/programme/calendar
 /event/1396-hands-over-the-city-le-mani-sulla-citta
DTSTART:20240414T170000Z
DTEND:20240414T185000Z
LOCATION:Αίθουσα Α (ΙΕΡΑ ΟΔΟΣ 48\, 104 35\, ΚΕΡΑΜΕΙΚΟΣ\, ΑΘΗΝΑ)
SUMMARY:Τα χέρια πάνω από την πόλη | Hands Over the City |  Le mani sulla c
 ittà
URL:http://tainiothiki.gr/en/programme/calendar/event/1396-hands-over-the-c
 ity-le-mani-sulla-citta
END:VEVENT
END:VCALENDAR
