BEGIN:VCALENDAR
VERSION:2.0
PRODID:-//http://tainiothiki.gr///NONSGML kigkonsult.se iCalcreator 2.10.15//
METHOD:PUBLISH
BEGIN:VEVENT
UID:20260424T041639EEST-6628H2KGTn@http://tainiothiki.gr/
DTSTAMP:20260424T011639Z
DESCRIPTION:K-Crime\nΘΕΡΙΝΟΣ ΚΙΝΗΜΑΤΟΓΡΑΦΟΣ ΛΑΪΣ\nΤρίτη 02 Ιουλίου\n21:00 Ο
  βετεράνος | Veteran (Ργιου Σονγκ-Γουαν | Ryu Seung-wan\, 2015\, 123΄)\n 
 \n\n\n\n\nΕΙΣΙΤΗΡΙΑ\nΕισιτήριο: 6€ ανά προβολή Κάρτα 3 προβολών / 12 €\nΗλ
 εκτρονική προπώληση: https://tickets.tainiothiki.gr/\nΣημειώνεται πως η κά
 ρτα πολλαπλών προβολών είναι διαθέσιμη μόνο από το φυσικό ταμείο της Ταινι
 οθήκης. \n http://tainiothiki.gr/en/programme/calendar/event/1451-veteran
DTSTART:20240702T180000Z
DTEND:20240702T200500Z
LOCATION:Θερινό Λαΐς (ΙΕΡΑ ΟΔΟΣ 48\, 104 35\, ΚΕΡΑΜΕΙΚΟΣ\, ΑΘΗΝΑ	)
SUMMARY:Ο βετεράνος | Veteran 
URL:http://tainiothiki.gr/en/programme/calendar/event/1451-veteran
END:VEVENT
END:VCALENDAR
