BEGIN:VCALENDAR
VERSION:2.0
PRODID:-//http://tainiothiki.gr///NONSGML kigkonsult.se iCalcreator 2.10.15//
METHOD:PUBLISH
BEGIN:VEVENT
UID:20260423T185916EEST-7970nIlsSW@http://tainiothiki.gr/
DTSTAMP:20260423T155916Z
DESCRIPTION:«Η Ελληνίδα που κατέκτησε το Χόλιγουντ»: Αφιέρωμα στην Κατίνα Π
 αξινού\nΑΙΘΟΥΣΑ Α\nΣάββατο 19 Οκτωβρίου\n20:00 Το πένθος ταιριάζει στην Ηλ
 έκτρα | Mourning becomes Electra (Dudley Nichols\, 1947\, 159')\nΠρολογίζε
 ι η Δηώ Καγγελάρη\, Διευθύντρια Σπουδών Δραματικής Σχολής Εθνικού Θεάτρου\
 , π. Επίκουρη Καθηγήτρια ΑΠΘ \n\n \n\n\n\nΕΙΣΙΤΗΡΙΑ\nΕισιτήριο: 6€ ανά προ
 βολή \nΗλεκτρονική προπώληση: https://tickets.tainiothiki.gr/\n\n http://t
 ainiothiki.gr/en/programme/calendar/event/1534-mourning-becomes-electra
DTSTART:20241019T170000Z
DTEND:20241019T194000Z
LOCATION:Αίθουσα Α (ΙΕΡΑ ΟΔΟΣ 48\, 104 35\, ΚΕΡΑΜΕΙΚΟΣ\, ΑΘΗΝΑ)
SUMMARY:Το πένθος ταιριάζει στην Ηλέκτρα | Mourning becomes Electra
URL:http://tainiothiki.gr/en/programme/calendar/event/1534-mourning-becomes
 -electra
END:VEVENT
END:VCALENDAR
