BEGIN:VCALENDAR
VERSION:2.0
PRODID:-//http://tainiothiki.gr///NONSGML kigkonsult.se iCalcreator 2.10.15//
METHOD:PUBLISH
BEGIN:VEVENT
UID:20260423T185926EEST-8633b4lhDn@http://tainiothiki.gr/
DTSTAMP:20260423T155926Z
DESCRIPTION:CINEMA MADE IN ITALY/ ATHENS 2024\nΑΙΘΟΥΣΑ Α\nΠαρασκευή 22 Νοεμ
 βρίου \n19:30 Γκλόρια! | Gloria! (Margherita Vicario\, 106')\nΕίσοδος μόνο
  με προσκλήσεις\nΠαρουσία της ηθοποιού Maria Vittoria Dallasta\n\n\n\nΕΙΣΙ
 ΤΗΡΙΑ\nΕισιτήριο: 5€. Κάρτα 3 προβολών: 10€\nΗλεκτρονική προπώληση: https:
 //tickets.tainiothiki.gr/\n\n \n http://tainiothiki.gr/en/programme/calend
 ar/event/1578-c-gloria
DTSTART:20241122T173000Z
DTEND:20241122T185000Z
LOCATION:Αίθουσα Α (ΙΕΡΑ ΟΔΟΣ 48\, 104 35\, ΚΕΡΑΜΕΙΚΟΣ\, ΑΘΗΝΑ)
SUMMARY:CΜΙΙ/ Γκλόρια! | Gloria!
URL:http://tainiothiki.gr/en/programme/calendar/event/1578-c-gloria
END:VEVENT
END:VCALENDAR
