BEGIN:VCALENDAR
VERSION:2.0
PRODID:-//http://tainiothiki.gr///NONSGML kigkonsult.se iCalcreator 2.10.15//
METHOD:PUBLISH
BEGIN:VEVENT
UID:20260423T173604EEST-8201UDv7uV@http://tainiothiki.gr/
DTSTAMP:20260423T143604Z
DESCRIPTION:CINEMA MADE IN ITALY/ ATHENS 2024\nΑΙΘΟΥΣΑ Α\nΣάββατο 23 Νοεμβρ
 ίου \n21:15 Το καλοκαίρι μου με την Ιρένε | My summer with Irène (Carlo Si
 roni\, 90')\nΠαρουσία του σκηνοθέτη\n\n\n\nΕΙΣΙΤΗΡΙΑ\nΕισιτήριο: 5€. Κάρτα
  3 προβολών: 10€\nΗλεκτρονική προπώληση: https://tickets.tainiothiki.gr/\n
 \n \n http://tainiothiki.gr/en/programme/calendar/event/1580-c-my-summer-w
 ith-irene
DTSTART:20241123T191500Z
DTEND:20241123T204500Z
LOCATION:Αίθουσα Α (ΙΕΡΑ ΟΔΟΣ 48\, 104 35\, ΚΕΡΑΜΕΙΚΟΣ\, ΑΘΗΝΑ)
SUMMARY:CΜΙΙ/ Το καλοκαίρι μου με την Ιρένε | My summer with Irène
URL:http://tainiothiki.gr/en/programme/calendar/event/1580-c-my-summer-with
 -irene
END:VEVENT
END:VCALENDAR
