BEGIN:VCALENDAR
VERSION:2.0
PRODID:-//http://tainiothiki.gr///NONSGML kigkonsult.se iCalcreator 2.10.15//
METHOD:PUBLISH
BEGIN:VEVENT
UID:20260422T034959EEST-1219f8cmAk@http://tainiothiki.gr/
DTSTAMP:20260422T004959Z
DESCRIPTION:13ο Φεστιβάλ Πρωτοποριακού Κινηματογράφου Αθηνών | 13th Athens 
 Avant Garde Film Festival\nΑΙΘΟΥΣΑ Β\nΠΕΜΠΤΗ 05 ΔΕΚΕΜΒΡΙΟΥ\n19:30 Grand to
 ur (Miguel Gomes\, 2024\, Μυθοπλασία\, 129’) \n\n\n\n\n\n\n\nΕΙΣΙΤΗΡΙΑ\nΕι
 σιτήρια (ΑΙΘΟΥΣΕΣ): 6€ (γενική είσοδος)Πακέτα: 5 προβολές/25€ \, 10 προβολ
 ές/35€ Προσφορά: Φοιτητικό - Παιδικό – ΑμεΑ -Ανέργοι - Ατέλειες - Άνω των 
 65 ετών: 10 προβολές/25€\nΗλεκτρονική προπώληση: https://tickets.tainiothi
 ki.gr/\n\n \n http://tainiothiki.gr/en/programme/calendar/event/1604-grand
 -tour-13o
DTSTART:20241205T173000Z
DTEND:20241205T194000Z
LOCATION:Αίθουσα Β (ΙΕΡΑ ΟΔΟΣ 48\, 104 35\, ΚΕΡΑΜΕΙΚΟΣ\, ΑΘΗΝΑ)
SUMMARY:Grand Tour | 13o ΦΠΚΑ
URL:http://tainiothiki.gr/en/programme/calendar/event/1604-grand-tour-13o
END:VEVENT
END:VCALENDAR
