BEGIN:VCALENDAR
VERSION:2.0
PRODID:-//http://tainiothiki.gr///NONSGML kigkonsult.se iCalcreator 2.10.15//
METHOD:PUBLISH
BEGIN:VEVENT
UID:20260422T000320EEST-3639u20SC6@http://tainiothiki.gr/
DTSTAMP:20260421T210320Z
DESCRIPTION:ΑΙΘΟΥΣΑ Α\nΣΑΒΒΑΤΟ 01/03 - ΚΥΡΙΑΚΗ 02/03\n17:00 Ο Κόκκινος Δάσκ
 αλος (Στέλιος Χαραλαμπόπουλος\, 100')\nΣάββατο 01/03: Ακολουθεί Q&amp\;A μ
 ε την ιστορικό κινηματογράφου και θεάτρου Λιζιάνα Δελβερούδη \n \n\n\n\n\n
 ΣΥΝΟΨΗ\nΔύο πολιτικές δίκες και εκτελέσεις έχουν αφήσει ανεξίτηλο ίχνος στ
 ην μετεμφυλιακή Ελλάδα. Η δίκη του Νίκου Μπελογιάννη και η δίκη του Νίκου 
 Πλουμπίδη. O Πλουμπίδης\, όμως\, έφυγε μόνος\, συκοφαντημένος\, ατιμασμένο
 ς. Το προσωπικό δράμα και το συλλογικό πεπρωμένο συνδιαμορφώνουν αυτόν τον
  προμηθεϊκό ήρωα που μοιάζει να πηγάζει από αρχαία τραγωδία.\n \n\n-Είσοδο
 ς για όλες τις αίθουσες: 7€\, 5€* (μειωμένο)\nΚάθε Δευτέρα ισχύει προσφορά
  εισόδου για 2 άτομα με ένα εισιτήριο στα 7€\n*Το μειωμένο εισιτήριο αφορά
  στις παρακάτω κατηγορίες: μαθητές\, φοιτητές\, άτομα άνω των 65 ετών\, άν
 εργοι\, άνθρωποι με αναπηρία – ΑμεΑ (ισχύει και για έναν/μία συνοδό)\, δάσ
 καλοι-καθηγητές\, ατέλειες.\nΠρονόμια μελών σε ΜΜΕ\n-Αθηνόραμα Club (Αθηνό
 ραμα): Από Δευτέρα έως και Πέμπτη\, ειδική τιμή € 5\nΚλείστε ηλεκτρονικά τ
 α εισιτήριά σας στο: https://tickets.tainiothiki.gr/Σημειώνεται πως οι δικ
 αιούχοι μειωμένου εισιτηρίου\, θα πρέπει να προμηθευτούν τα εισιτήριά τους
  από το ταμείο της Ταινιοθήκης.  http://tainiothiki.gr/en/programme/calend
 ar/event/1748-
DTSTART:20250301T150000Z
DTEND:20250301T164000Z
LOCATION:Αίθουσα Α (ΙΕΡΑ ΟΔΟΣ 48\, 104 35\, ΚΕΡΑΜΕΙΚΟΣ\, ΑΘΗΝΑ)
SUMMARY:Ο Κόκκινος Δάσκαλος 
URL:http://tainiothiki.gr/en/programme/calendar/event/1748-
END:VEVENT
END:VCALENDAR
