BEGIN:VCALENDAR
VERSION:2.0
PRODID:-//http://tainiothiki.gr///NONSGML kigkonsult.se iCalcreator 2.10.15//
METHOD:PUBLISH
BEGIN:VEVENT
UID:20260421T135325EEST-1447IBWX5j@http://tainiothiki.gr/
DTSTAMP:20260421T105325Z
DESCRIPTION:ΑΙΘΟΥΣΑ Α\nΗ πτώση των δικτατοριών και η άνθιση του νέου κινημα
 τογράφου: Ελλάδα – Ισπανία – Πορτογαλία\nΤετάρτη 19 Μαρτίου\n21:00 Ένα τρα
 γούδι δε φτάνει | A Song is Not Enough (Ελισάβετ Χρονοπούλου / Elissavet C
 hronopoulou 2003\, Ελλάδα / Greece\, Μυθοπλασία / Fiction\, 118’)\nΠαρουσί
 α της σκηνοθέτριας / Director in attendance\n\n\n   \n\n\nΕΙΣΙΤΗΡΙΑ\n6 ευρ
 ώ (γενική είσοδος)\nΚλείστε ηλεκτρονικά τα εισιτήριά σας στο: https://tick
 ets.tainiothiki.gr/ http://tainiothiki.gr/en/programme/calendar/event/1768
 -a-song-is-not-enough
DTSTART:20250319T190000Z
DTEND:20250319T210000Z
LOCATION:Αίθουσα Α (ΙΕΡΑ ΟΔΟΣ 48\, 104 35\, ΚΕΡΑΜΕΙΚΟΣ\, ΑΘΗΝΑ)
SUMMARY:Ένα τραγούδι δε φθάνει | A Song is Not Enough
URL:http://tainiothiki.gr/en/programme/calendar/event/1768-a-song-is-not-en
 ough
END:VEVENT
END:VCALENDAR
