BEGIN:VCALENDAR
VERSION:2.0
PRODID:-//http://tainiothiki.gr///NONSGML kigkonsult.se iCalcreator 2.10.15//
METHOD:PUBLISH
BEGIN:VEVENT
UID:20260422T122337EEST-3504Ce0ULp@http://tainiothiki.gr/
DTSTAMP:20260422T092337Z
DESCRIPTION:Το 9ο Beyond Borders ταξιδεύει στην Αθήνα! \nΑΙΘΟΥΣΑ Α\nΠΑΡΑΣΚΕ
 ΥΗ 28/03 \n19:30 Έναρξη δράσης / καλωσόρισμα\n19:45 I shall not hate της T
 al Barda (Χάλκινο Στεφάνι Μεγίστης)\, 90'\, Ελληνική πρεμιέρα- Q&amp\;A\n2
 1:30 Monument του Maksim Adveev (Χρυσός Φοίνικας)\, 15'\, Παγκόσμια Πρεμιέ
 ρα\n21:45 Searching for Rodakis του Kerem Soyyilmaz (Ειδικό Βραβείο Μεσογε
 ιακής Φιλίας)\, 57'\n \nΕίσοδος ελεύθερη\n\n\n\n http://tainiothiki.gr/en/
 programme/calendar/event/1786-9-beyond-borders-1
DTSTART:20250328T173000Z
DTEND:20250328T214500Z
LOCATION:Αίθουσα Α (ΙΕΡΑ ΟΔΟΣ 48\, 104 35\, ΚΕΡΑΜΕΙΚΟΣ\, ΑΘΗΝΑ)
SUMMARY:Το 9ο Beyond Borders ταξιδεύει στην Αθήνα - Ημέρα 1
URL:http://tainiothiki.gr/en/programme/calendar/event/1786-9-beyond-borders
 -1
END:VEVENT
END:VCALENDAR
