BEGIN:VCALENDAR
VERSION:2.0
PRODID:-//http://tainiothiki.gr///NONSGML kigkonsult.se iCalcreator 2.10.15//
METHOD:PUBLISH
BEGIN:VEVENT
UID:20260421T121202EEST-14091jBlVS@http://tainiothiki.gr/
DTSTAMP:20260421T091202Z
DESCRIPTION:Θερινός Κινηματογράφος Λαΐς\nΠάνος Χ. Κούτρας - Ο κόσμος ανάποδ
 α\nΠαρασκευή 19 Σεπτεμβρίου\n22:30 Η επίθεση του γιγαντιαίου μουσακά (1999
 \, 99')Προλογίζει η ηθοποιός Θέμις Μπαζάκα\n\n\n\nΕΙΣΙΤΗΡΙΑ\n6 ευρώ (γενικ
 ή είσοδος)Ηλεκτρονική προπώληση εδώ\n http://tainiothiki.gr/en/programme/c
 alendar/event/1937-
DTSTART:20250919T193000Z
DTEND:20250919T205900Z
LOCATION:Θερινό Λαΐς (ΙΕΡΑ ΟΔΟΣ 48\, 104 35\, ΚΕΡΑΜΕΙΚΟΣ\, ΑΘΗΝΑ	)
SUMMARY:Η επίθεση του γιγαντιαίου μουσακά
URL:http://tainiothiki.gr/en/programme/calendar/event/1937-
END:VEVENT
END:VCALENDAR
