BEGIN:VCALENDAR
VERSION:2.0
PRODID:-//http://tainiothiki.gr///NONSGML kigkonsult.se iCalcreator 2.10.15//
METHOD:PUBLISH
BEGIN:VEVENT
UID:20260421T121202EEST-13091VEhhb@http://tainiothiki.gr/
DTSTAMP:20260421T091202Z
DESCRIPTION:Θερινός Κινηματογράφος Λαΐς\nΠάνος Χ. Κούτρας - Ο κόσμος ανάποδ
 α\nΣάββατο 20 Σεπτεμβρίου\n20:00 Μικρού μήκους ταινίες (συνολική διάρκεια:
  59’)Ακολουθεί συζήτηση με τον σκηνοθέτη Πάνο Χ. Κούτρα και την κριτικό κι
 νηματογράφου Λήδα Γαλανού\nΕλεύθερη είσοδος\nΤο ρέψιμο της Λυδίας Φον Μπύρ
 ερ | The Βelch of Lydia Von Bürer (1983\, Ηνωμένο Βασίλειο)Ομιχλώδεις ημέρ
 ες της Άνοιξης | Misty Days of Spring (1984\, Ηνωμένο Βασίλειο)Strange Rel
 ationship (1987\, Γαλλία)Η πτώση και η άνοδος της Λυδίας Φον Μπύρερ | The 
 Fall and Rise of Lydia Von Bürer (1988\, Γαλλία - Ηνωμένο Βασίλειο)Afterno
 on Stars (1989\, Ελλάδα)\n\n\n http://tainiothiki.gr/en/programme/calendar
 /event/1939-
DTSTART:20250921T170000Z
DTEND:20250921T180000Z
LOCATION:Θερινό Λαΐς (ΙΕΡΑ ΟΔΟΣ 48\, 104 35\, ΚΕΡΑΜΕΙΚΟΣ\, ΑΘΗΝΑ	)
SUMMARY:Πάνος Χ. Κούτρας | Μικρού μήκους ταινίες
URL:http://tainiothiki.gr/en/programme/calendar/event/1939-
END:VEVENT
END:VCALENDAR
