BEGIN:VCALENDAR
VERSION:2.0
PRODID:-//http://tainiothiki.gr///NONSGML kigkonsult.se iCalcreator 2.10.15//
METHOD:PUBLISH
BEGIN:VEVENT
UID:20260421T121207EEST-0897U4K5Vi@http://tainiothiki.gr/
DTSTAMP:20260421T091207Z
DESCRIPTION:Θερινός Κινηματογράφος Λαΐς\nΠάνος Χ. Κούτρας - Ο κόσμος ανάποδ
 α\nΣάββατο 20 Σεπτεμβρίου\n22:00 Dodo (2022\, 135')Προλογίζει η διευθύντρι
 α φωτογραφίας Ολυμπία Μυτιληναίου\n\n\n\nΕΙΣΙΤΗΡΙΑ\n6 ευρώ (γενική είσοδος
 )Ηλεκτρονική προπώληση εδώ\n http://tainiothiki.gr/en/programme/calendar/e
 vent/1940-dodo
DTSTART:20250921T190000Z
DTEND:20250921T205900Z
LOCATION:Θερινό Λαΐς (ΙΕΡΑ ΟΔΟΣ 48\, 104 35\, ΚΕΡΑΜΕΙΚΟΣ\, ΑΘΗΝΑ	)
SUMMARY:Dodo
URL:http://tainiothiki.gr/en/programme/calendar/event/1940-dodo
END:VEVENT
END:VCALENDAR
