BEGIN:VCALENDAR
VERSION:2.0
PRODID:-//http://tainiothiki.gr///NONSGML kigkonsult.se iCalcreator 2.10.15//
METHOD:PUBLISH
BEGIN:VEVENT
UID:20260421T121440EEST-3609xNMwAg@http://tainiothiki.gr/
DTSTAMP:20260421T091440Z
DESCRIPTION:ΑΙΘΟΥΣΑ Α\nΗ Ειρήνη Παπά στη μεγάλη οθόνη\nΣάββατο 18 Οκτωβρίου
 \n19:30 Αντιγόνη | Antigone (Γιώργος Τζαβέλλας\, 98')\n\n \n\nΕΙΣΙΤΗΡΙΑ\n7
  ευρώ (γενική είσοδος)Ηλεκτρονική προπώληση εδώ\n http://tainiothiki.gr/en
 /programme/calendar/event/1984-antigone
DTSTART:20251018T163000Z
DTEND:20251018T181000Z
LOCATION:Αίθουσα Α (ΙΕΡΑ ΟΔΟΣ 48\, 104 35\, ΚΕΡΑΜΕΙΚΟΣ\, ΑΘΗΝΑ)
SUMMARY:Αντιγόνη | Antigone
URL:http://tainiothiki.gr/en/programme/calendar/event/1984-antigone
END:VEVENT
END:VCALENDAR
