BEGIN:VCALENDAR
VERSION:2.0
PRODID:-//http://tainiothiki.gr///NONSGML kigkonsult.se iCalcreator 2.10.15//
METHOD:PUBLISH
BEGIN:VEVENT
UID:20260421T210337EEST-5389MAUukJ@http://tainiothiki.gr/
DTSTAMP:20260421T180337Z
DESCRIPTION:ΑΙΘΟΥΣΑ Β\nΠΕΜΠΤΗ 29/01 - ΤΕΤΑΡΤΗ 04/02\n19:30 Σας πιστεύουμε |
  We believe you (Ch. Devillers\, A. Dufeys\,78') One from the Heart\n\n\n
 \nΤο ντεμπούτο αποκάλυψη των Σαρλότ Ντεβιλέρς και Αρνό Ντιφεΐς!\n\nΣΥΝΟΨΗ
 \nΗ Αλίς καταθέτει σε ένα δικαστήριο\, γνωρίζοντας ότι δεν πρέπει να κάνει
  κανένα λάθος. Πρέπει να υπερασπιστεί τα παιδιά της\, καθώς το διακύβευμα 
 είναι  η κηδεμονία τους. Θα μπορέσει να τα προστατεύσει από τον πατέρα του
 ς πριν να είναι αργά\;\n\nΛΙΓΑ ΛΟΓΙΑ ΓΙΑ ΤΗΝ ΤΑΙΝΙΑ\nΤο σκηνοθετικό ντεμπο
 ύτο των Ντεβιλέρς- Ντιφεΐς\, χωροθετημένο ασφυκτικά στο τετράγωνο κάδρο\, 
 ξετυλίγεται χωρίς ανάσα ως ένας ωρολογιακός μηχανισμός ακριβείας που ακτιν
 ογραφεί σε σχεδόν πραγματικό χρόνο το χρονικό ενός οικογενειακού δράματος 
 και μαζί την αδυναμία και τις υπεκφυγές ενός ολόκληρου\, καφκικού συστήματ
 ος απονομής δικαιοσύνης σε ένα αλησμόνητο θρίλερ δωματίου που δίνει την ευ
 καιρία σε ένα εκπληκτικό καστ να λάμψει\, παρασύροντας το θεατή σε πρωτόγν
 ωρα συναισθήματα.\nΗ Σαρλότ Ντεβιλέρς και ο Αρνό Ντιφεΐς έγραψαν και σκηνο
 θέτησαν μαζί την ταινία Σας Πιστεύουμε. Ως επαγγελματίας υγείας που εργάζε
 ται συχνά με θύματα κακοποίησης\, η Σαρλότ βοήθησε να καταγραφούν κάποιες 
 από τις πιο προσωπικές πλευρές της πραγματικότητας σε ένα Δικαστήριο Προστ
 ασίας Ανηλίκων. Ο Αρνό\, κινηματογραφιστής και παραγωγός\, έχει κερδίσει β
 ραβεία με τις μικρού μήκους ταινίες του\, συμπεριλαμβανομένης της πιο πρόσ
 φατης του Invincible Summer που είχε προβληθεί στο Φεστιβάλ Βερολίνου το 2
 024. Θα συνεργαστούν ξανά στο σχέδιο με τίτλο Plaisir\, ενώ ο Αρνό εργάζετ
 αι και πάνω σε δύο άλλες μεγάλου μήκους ταινίες.\n\nΣΚΗΝΟΘΕΤΙΚΟ ΣΗΜΕΙΩΜΑ 
 \nΗ ταινία Σας Πιστεύουμε αντιμετωπίζει βαθιά σύγχρονα και ευαίσθητα ζητήμ
 ατα. Θέλαμε να πετύχουμε μια ισορροπία μεταξύ της πραγματικότητας της ενδο
 οικογενειακής βίας και της κινηματογραφικής μυθοπλασίας. Από την αρχή της 
 συγγραφής του σεναρίου\, αναγνωρίσαμε ότι οι δικαστικές ακροάσεις ακολουθο
 ύν φυσικά μια δομή παρόμοια με αυτή μιας ταινίας ή θεατρικού έργου μυθοπλα
 σίας. Η σειρά με την οποία λέγονται οι λέξεις δημιουργεί ένταση και οδηγεί
  σε προοδευτικές αποκαλύψεις. Η ακρόαση μεταγράφηκε με βάση μαρτυρίες που 
 συγκεντρώσαμε\, οι οποίες είχαν όλες ορισμένες ομοιότητες. Οι σκηνές που π
 ροηγούνται και έπονται της ακρόασης\, ωστόσο\, ήταν πιο φανταστικές. Αυτές
  δημιουργήθηκαν για να αισθανθεί πλήρως το κοινό στο συναισθηματικό ταξίδι
  της Αλίς - από τα αρχικά της συναισθήματα ενοχής έως την ανάκτηση του ρόλ
 ου της ως μητέρας μετά την ακρόαση.\nΣαρλότ: Η ταινία είναι εμπνευσμένη απ
 ό την εμπειρία μου ως νοσοκόμα\, καθώς και από την οπτική μου ως γυναίκα κ
 αι μητέρα. Η παρατήρηση και η ακρόαση είναι κεντρικά και στους δύο ρόλους.
  Η κατανόηση των ιστοριών των ασθενών και η επικοινωνία τους σε μια ομάδα 
 είναι κάτι που έκανα καθημερινά και αυτές οι δεξιότητες επηρέασαν πολύ τη 
 συγγραφή και τη σκηνοθεσία της ταινίας.\nΉταν ζωτικής σημασίας για εμάς να
  απεικονίσουμε πώς η παρατεταμένη\, επαναλαμβανόμενη και συχνά εξαντλητική
  φύση των νομικών διαδικασιών ενισχύει το τραύμα. Στην ιστορία μας\, όπως 
 και στην πραγματική ζωή\, τα παιδιά που καλούνται επανειλημμένα να αφηγηθο
 ύν τις εμπειρίες τους και των οποίων τα λόγια αμφισβητούνται μπορεί να αισ
 θάνονται απροστάτευτα.\nΟ τίτλος της ταινίας αντανακλά την πεποίθησή μας ό
 τι\, ως ενήλικες\, έχουμε την ευθύνη να ακούμε τα παιδιά\, να λαμβάνουμε τ
 α λόγια τους στα σοβαρά και να τα προστατεύουμε. Όταν τα παιδιά αποκαλύπτο
 υν εμπειρίες βίας\, χρειάζεται τεράστιο θάρρος. Εάν η φωνή τους απορριφθεί
 \, μπορεί να διαβρώσει την εμπιστοσύνη τους στον κόσμο των ενηλίκων. Στην 
 ταινία μας\, η Αλίς μάλιστα παραδέχεται\, 'Στην αρχή\, δεν το πίστευα. Ήτα
 ν πολύ βίαιο. Πολύ αδιανόητο για μένα.' Οι ενήλικες συχνά προτιμούν να αρν
 ούνται τέτοιες πραγματικότητες\, αλλά αυτή η άρνηση έχει καταστροφικές συν
 έπειες.\nΑποφασίσαμε να γυρίσουμε την κεντρική σκηνή των 55 λεπτών σε πραγ
 ματικό χρόνο. Αυτή η επιλογή προέκυψε από διάφορους λόγους. Πρώτον\, θέλαμ
 ε οι ηθοποιοί να βιώσουν την αμεσότητα μιας πραγματικής ακρόασης\, όπου υπ
 άρχει μόνο μία ευκαιρία να παρουσιαστείς. Αυτή η προσέγγιση επέτρεψε στους
  ηθοποιούς να παίξουν με ένταση\, αντιδρώντας αυθόρμητα στο άγνωστο. Οι δι
 κηγόροι\, που δεν είχαν ξαναπαίξει μπροστά στην κάμερα\, απέφυγαν τις επαν
 αλαμβανόμενες λήψεις. Ο περιορισμένος προϋπολογισμός και το πρόγραμμά μας 
 ήταν επίσης παράγοντες: η καταγραφή της κεντρικής σκηνής σε μια συνεχή λήψ
 η με τρεις κάμερες μας επέτρεψε να ολοκληρώσουμε ολόκληρη την ταινία σε μό
 λις 13 ημέρες.\nΤο να είσαι σκηνοθετικό δίδυμο άνδρας-γυναίκα ήταν ένα βασ
 ικό πλεονέκτημα για την προσέγγιση ενός τόσο περίπλοκου θέματος. Μαζί\, μπ
 ορούσαμε να μοιραστούμε προοπτικές\, να συζητήσουμε ιδέες σε βάθος και να 
 επεξεργαστούμε τις ισχυρές μαρτυρίες που ακούσαμε. Το να συμμετάσχουμε μαζ
 ί στις ακροάσεις του δικαστηρίου ήταν ιδιαίτερα διαφωτιστικό και οι συζητή
 σεις που ακολούθησαν διαμόρφωσαν την προσέγγισή μας. Η συνεργασία μας βασί
 στηκε σε διαρκή προβληματισμό\, που μας βοήθησε να περιηγηθούμε στη λεπτή 
 ισορροπία του θέματος.\nΓνωρίζαμε ότι η συνεργασία με πραγματικούς δικηγόρ
 ους θα εξοικονομούσε χρόνο ενώ θα ενίσχυε την αυθεντικότητα της ταινίας. Ή
 δη αντιλαμβανόντουσαν τις αποχρώσεις της νομικής γλώσσας\, τη δυναμική της
  δικαστικής αίθουσας και το συναισθηματικό βάρος των ρόλων τους. Οι αυτοσχ
 εδιασμοί τους κατά τη διάρκεια του casting επιβεβαίωσαν ότι αυτή ήταν η σω
 στή επιλογή - οι αλληλεπιδράσεις τους με τους ηθοποιούς ήταν φυσικές και β
 αθιά αξιόπιστες.\nΠάνω από όλα\, ελπίζουμε ότι αυτή η ταινία υπογραμμίζει 
 την επείγουσα ανάγκη προσαρμογής των νομικών διαδικασιών σε περιπτώσεις σε
 ξουαλικής κακοποίησης που αφορούν ανηλίκους. Οι καθυστερήσεις στην προστασ
 ία ενός παιδιού μπορεί να έχουν μόνιμες\, καταστροφικές συνέπειες. Πέρα απ
 ό τις συστημικές αλλαγές\, θέλουμε να αλλάξουμε τις κοινωνικές αντιλήψεις 
 για τις οικογένειες των θυμάτων. Η προστασία ενός παιδιού σημαίνει και υπο
 στήριξη του προστατευτικού γονέα -συνήθως της μητέρας- που συχνά υπομένει 
 το βάρος των συστημικών αποτυχιών ενώ κουβαλά ταυτόχρονα τα βάσανα του παι
 διού.\n \n\nΕΙΣΙΤΗΡΙΑ\n-Είσοδος για όλες τις αίθουσες: 7€\, 5€* (μειωμένο)
 \nΚάθε Δευτέρα ισχύει προσφορά εισόδου για 2 άτομα με ένα εισιτήριο στα 7€
  από το ταμείο\n*Το μειωμένο εισιτήριο αφορά στις παρακάτω κατηγορίες:μαθη
 τές\, φοιτητές\, άτομα άνω των 65 ετών\, άνεργοι\, άνθρωποι με αναπηρία – 
 ΑμεΑ (ισχύει και για έναν/μία συνοδό)\, δάσκαλοι-καθηγητές\, ατέλειες.\nΠρ
 ονόμια μελών σε ΜΜΕ\n-Αθηνόραμα Club (Αθηνόραμα): Από Δευτέρα έως και Πέμπ
 τη\, ειδική τιμή € 5\nΚλείστε ηλεκτρονικά τα εισιτήριά σας στο: https://ti
 ckets.tainiothiki.gr/Σημειώνεται πως οι δικαιούχοι μειωμένου εισιτηρίου\, 
 θα πρέπει να προμηθευτούν τα εισιτήριά τους από το ταμείο της Ταινιοθήκης.
  \n  http://tainiothiki.gr/en/programme/calendar/event/2204-we-believe-you
DTSTART:20260129T173000Z
DTEND:20260204T185000Z
LOCATION:Αίθουσα Β (ΙΕΡΑ ΟΔΟΣ 48\, 104 35\, ΚΕΡΑΜΕΙΚΟΣ\, ΑΘΗΝΑ)
SUMMARY:Σας πιστεύουμε | We believe you 
URL:http://tainiothiki.gr/en/programme/calendar/event/2204-we-believe-you
END:VEVENT
END:VCALENDAR
