BEGIN:VCALENDAR
VERSION:2.0
PRODID:-//http://tainiothiki.gr///NONSGML kigkonsult.se iCalcreator 2.10.15//
METHOD:PUBLISH
BEGIN:VEVENT
UID:20260426T052755EEST-89901uXiZk@http://tainiothiki.gr/
DTSTAMP:20260426T022755Z
DESCRIPTION:ΘΕΡΙΝΟΣ ΚΙΝΗΜΑΤΟΓΡΑΦΟΣ ΛΑΪΣ\nΚΥΡΙΑΚΗ 26/0927Ο ΔΙΕΘΝΕΣ ΦΕΣΤΙΒΑΛ 
 ΚΙΝΗΜΑΤΟΓΡΑΦΟΥ ΝΥΧΤΕΣ ΠΡΕΜΙΕΡΑΣ\n19:45 RICK JAMES: ΘΟΡΥΒΟΣ ΚΑΙ ΟΡΜΗ / BITC
 HIN’: THE SOUND AND FURY OF RICK JAMES ΗΠΑ | 2021 | ΕΓΧΡΩΜΟ | DCP | 111’ |
  ΣΚΗΝΟΘΕΣΙΑ: Sacha Jenkins\n\n\nΠερισσότερες πληροφορίες και εισιτήρια: 27
 Ο ΔΙΕΘΝΕΣ ΦΕΣΤΙΒΑΛ ΚΙΝΗΜΑΤΟΓΡΑΦΟΥ ΝΥΧΤΕΣ ΠΡΕΜΙΕΡΑΣ \n http://tainiothiki.g
 r/en/programme/calendar/event/278-rick-james-bitchin-the-sound-and-fury-of
 -rick-james
DTSTART:20210926T164500Z
DTEND:20210926T183500Z
LOCATION:Θερινό Λαΐς (ΙΕΡΑ ΟΔΟΣ 48\, 104 35\, ΚΕΡΑΜΕΙΚΟΣ\, ΑΘΗΝΑ	)
SUMMARY:RICK JAMES: ΘΟΡΥΒΟΣ ΚΑΙ ΟΡΜΗ / BITCHIN’: THE SOUND AND FURY OF RICK
  JAMES
URL:http://tainiothiki.gr/en/programme/calendar/event/278-rick-james-bitchi
 n-the-sound-and-fury-of-rick-james
END:VEVENT
END:VCALENDAR
