BEGIN:VCALENDAR
VERSION:2.0
PRODID:-//http://tainiothiki.gr///NONSGML kigkonsult.se iCalcreator 2.10.15//
METHOD:PUBLISH
BEGIN:VEVENT
UID:20260426T052332EEST-3838aDATzx@http://tainiothiki.gr/
DTSTAMP:20260426T022332Z
DESCRIPTION:ΘΕΡΙΝΟΣ ΚΙΝΗΜΑΤΟΓΡΑΦΟΣ ΛΑΪΣ\nΚΥΡΙΑΚΗ 26/0927Ο ΔΙΕΘΝΕΣ ΦΕΣΤΙΒΑΛ 
 ΚΙΝΗΜΑΤΟΓΡΑΦΟΥ ΝΥΧΤΕΣ ΠΡΕΜΙΕΡΑΣ\n22:15 ΟΙ ΚΑΜΠΑΝΕΣ ΤΟΥ ΜΕΣΟΝΥΧΤΙΟΥ / CHIME
 S AT MIDNIGHT  ΕΛΒΕΤΙΑ\, ΙΣΠΑΝΙΑ | 1965 | ΑΣΠΡΟΜΑΥΡΟ | DCP | 115’ | ΣΚΗΝΟΘ
 ΕΣΙΑ: Orson Welles\n\n\nΠερισσότερες πληροφορίες και εισιτήρια: 27Ο ΔΙΕΘΝΕ
 Σ ΦΕΣΤΙΒΑΛ ΚΙΝΗΜΑΤΟΓΡΑΦΟΥ ΝΥΧΤΕΣ ΠΡΕΜΙΕΡΑΣ \n http://tainiothiki.gr/en/pro
 gramme/calendar/event/279-chimes-at-midnight
DTSTART:20210926T191500Z
DTEND:20210926T205900Z
LOCATION:Θερινό Λαΐς (ΙΕΡΑ ΟΔΟΣ 48\, 104 35\, ΚΕΡΑΜΕΙΚΟΣ\, ΑΘΗΝΑ	)
SUMMARY: ΟΙ ΚΑΜΠΑΝΕΣ ΤΟΥ ΜΕΣΟΝΥΧΤΙΟΥ / CHIMES AT MIDNIGHT
URL:http://tainiothiki.gr/en/programme/calendar/event/279-chimes-at-midnigh
 t
END:VEVENT
END:VCALENDAR
