BEGIN:VCALENDAR
VERSION:2.0
PRODID:-//http://tainiothiki.gr///NONSGML kigkonsult.se iCalcreator 2.10.15//
METHOD:PUBLISH
BEGIN:VEVENT
UID:20260426T023219EEST-6781IewMI3@http://tainiothiki.gr/
DTSTAMP:20260425T233219Z
DESCRIPTION:ΘΕΡΙΝΟΣ ΚΙΝΗΜΑΤΟΓΡΑΦΟΣ ΛΑΪΣ\nΔΕΥΤΕΡΑ 27/0927Ο ΔΙΕΘΝΕΣ ΦΕΣΤΙΒΑΛ 
 ΚΙΝΗΜΑΤΟΓΡΑΦΟΥ ΝΥΧΤΕΣ ΠΡΕΜΙΕΡΑΣ\n22:15 ΕΝΟΙΚΙΑΖΕΤΑΙ / SUBLET ΙΣΡΑΗΛ | 2020
  | ΕΓΧΡΩΜΟ | DCP | 90’ | ΣΚΗΝΟΘΕΣΙΑ: Eytan Fox\n\n\nΠερισσότερες πληροφορί
 ες και εισιτήρια: 27Ο ΔΙΕΘΝΕΣ ΦΕΣΤΙΒΑΛ ΚΙΝΗΜΑΤΟΓΡΑΦΟΥ ΝΥΧΤΕΣ ΠΡΕΜΙΕΡΑΣ \n 
 http://tainiothiki.gr/en/programme/calendar/event/282-sublet
DTSTART:20210927T191500Z
DTEND:20210927T204500Z
LOCATION:Θερινό Λαΐς (ΙΕΡΑ ΟΔΟΣ 48\, 104 35\, ΚΕΡΑΜΕΙΚΟΣ\, ΑΘΗΝΑ	)
SUMMARY:ΕΝΟΙΚΙΑΖΕΤΑΙ / SUBLET 
URL:http://tainiothiki.gr/en/programme/calendar/event/282-sublet
END:VEVENT
END:VCALENDAR
