BEGIN:VCALENDAR
VERSION:2.0
PRODID:-//http://tainiothiki.gr///NONSGML kigkonsult.se iCalcreator 2.10.15//
METHOD:PUBLISH
BEGIN:VEVENT
UID:20260426T023219EEST-07868Pahtu@http://tainiothiki.gr/
DTSTAMP:20260425T233219Z
DESCRIPTION:ΘΕΡΙΝΟΣ ΚΙΝΗΜΑΤΟΓΡΑΦΟΣ ΛΑΪΣ\nΠΕΜΠΤΗ 30/09\n27Ο ΔΙΕΘΝΕΣ ΦΕΣΤΙΒΑΛ
  ΚΙΝΗΜΑΤΟΓΡΑΦΟΥ ΝΥΧΤΕΣ ΠΡΕΜΙΕΡΑΣ \n22:30 ΒΟΤΣΑΛΑ / PEBBLES   ΙΝΔΙΑ | 2021 
 | 74' | ΣΚΗΝΟΘΕΣΙΑ:  Βινοθράζ Π. Σ.\n\n\nΠερισσότερες πληροφορίες και εισι
 τήρια: 27Ο ΔΙΕΘΝΕΣ ΦΕΣΤΙΒΑΛ ΚΙΝΗΜΑΤΟΓΡΑΦΟΥ ΝΥΧΤΕΣ ΠΡΕΜΙΕΡΑΣ \n http://tain
 iothiki.gr/en/programme/calendar/event/286-pebbles
DTSTART:20210930T193000Z
DTEND:20210930T204000Z
LOCATION:Θερινό Λαΐς (ΙΕΡΑ ΟΔΟΣ 48\, 104 35\, ΚΕΡΑΜΕΙΚΟΣ\, ΑΘΗΝΑ	)
SUMMARY:ΒΟΤΣΑΛΑ / PEBBLES  
URL:http://tainiothiki.gr/en/programme/calendar/event/286-pebbles
END:VEVENT
END:VCALENDAR
