BEGIN:VCALENDAR
VERSION:2.0
PRODID:-//http://tainiothiki.gr///NONSGML kigkonsult.se iCalcreator 2.10.15//
METHOD:PUBLISH
BEGIN:VEVENT
UID:20260426T035519EEST-6304GorS8d@http://tainiothiki.gr/
DTSTAMP:20260426T005519Z
DESCRIPTION:ΘΕΡΙΝΟΣ ΚΙΝΗΜΑΤΟΓΡΑΦΟΣ ΛΑΪΣ\nΠΑΡΑΣΚΕΥΗ 01/10\n27Ο ΔΙΕΘΝΕΣ ΦΕΣΤΙ
 ΒΑΛ ΚΙΝΗΜΑΤΟΓΡΑΦΟΥ ΝΥΧΤΕΣ ΠΡΕΜΙΕΡΑΣ\n19:45 ΧΤΙΣΤΕΣ\, ΝΟΙΚΟΚΥΡΕΣ ΚΑΙ Η ΟΙΚΟ
 ΔΟΜΗΣΗ ΤΗΣ ΣΥΓΧΡΟΝΗΣ ΑΘΗΝΑΣ / BUILDERS\, HOUSEWIVES AND THECONSTRUCTION OF
  MODERN ATHENS   ΕΛΛΑΔΑ | 2021 | 87' | ΣΚΗΝΟΘΕΣΙΑ:  Τάσος Λάγγης\, Γιάννης
  Γαϊτανίδης\n\n\nΠερισσότερες πληροφορίες και εισιτήρια: 27Ο ΔΙΕΘΝΕΣ ΦΕΣΤΙ
 ΒΑΛ ΚΙΝΗΜΑΤΟΓΡΑΦΟΥ ΝΥΧΤΕΣ ΠΡΕΜΙΕΡΑΣ \n http://tainiothiki.gr/en/programme/
 calendar/event/287-builders-housewives-and-theconstruction-of-modern-athen
 s
DTSTART:20211001T164500Z
DTEND:20211001T181500Z
LOCATION:Θερινό Λαΐς (ΙΕΡΑ ΟΔΟΣ 48\, 104 35\, ΚΕΡΑΜΕΙΚΟΣ\, ΑΘΗΝΑ	)
SUMMARY:ΧΤΙΣΤΕΣ\, ΝΟΙΚΟΚΥΡΕΣ ΚΑΙ Η ΟΙΚΟΔΟΜΗΣΗ ΤΗΣ ΣΥΓΧΡΟΝΗΣ ΑΘΗΝΑΣ / BUILDE
 RS\, HOUSEWIVES AND THECONSTRUCTION OF MODERN ATHENS
URL:http://tainiothiki.gr/en/programme/calendar/event/287-builders-housewiv
 es-and-theconstruction-of-modern-athens
END:VEVENT
END:VCALENDAR
