BEGIN:VCALENDAR
VERSION:2.0
PRODID:-//http://tainiothiki.gr///NONSGML kigkonsult.se iCalcreator 2.10.15//
METHOD:PUBLISH
BEGIN:VEVENT
UID:20260426T023331EEST-8310sRDd6A@http://tainiothiki.gr/
DTSTAMP:20260425T233331Z
DESCRIPTION:ΘΕΡΙΝΟΣ ΚΙΝΗΜΑΤΟΓΡΑΦΟΣ ΛΑΪΣ\nΠΑΡΑΣΚΕΥΗ 01/10\n27Ο ΔΙΕΘΝΕΣ ΦΕΣΤΙ
 ΒΑΛ ΚΙΝΗΜΑΤΟΓΡΑΦΟΥ ΝΥΧΤΕΣ ΠΡΕΜΙΕΡΑΣ\n22:15 Η ΘΛΙΨΗ / THE SADNESS   ΤΑΪΒΑΝ 
 | 2021 | 99' | ΣΚΗΝΟΘΕΣΙΑ:  Ρομπ Τζαμπάζ\n\n\nΠερισσότερες πληροφορίες και
  εισιτήρια: 27Ο ΔΙΕΘΝΕΣ ΦΕΣΤΙΒΑΛ ΚΙΝΗΜΑΤΟΓΡΑΦΟΥ ΝΥΧΤΕΣ ΠΡΕΜΙΕΡΑΣ \n http:/
 /tainiothiki.gr/en/programme/calendar/event/288-the-sadness
DTSTART:20211001T191500Z
DTEND:20211001T205500Z
LOCATION:Θερινό Λαΐς (ΙΕΡΑ ΟΔΟΣ 48\, 104 35\, ΚΕΡΑΜΕΙΚΟΣ\, ΑΘΗΝΑ	)
SUMMARY:Η ΘΛΙΨΗ / THE SADNESS 
URL:http://tainiothiki.gr/en/programme/calendar/event/288-the-sadness
END:VEVENT
END:VCALENDAR
